BEGIN:VCALENDAR
VERSION:2.0
PRODID:-//Unitarian Univeralist Church of the North Hills - ECPv6.15.17.1//NONSGML v1.0//EN
CALSCALE:GREGORIAN
METHOD:PUBLISH
X-WR-CALNAME:Unitarian Univeralist Church of the North Hills
X-ORIGINAL-URL:https://uucnh.org
X-WR-CALDESC:Events for Unitarian Univeralist Church of the North Hills
REFRESH-INTERVAL;VALUE=DURATION:PT1H
X-Robots-Tag:noindex
X-PUBLISHED-TTL:PT1H
BEGIN:VTIMEZONE
TZID:America/New_York
BEGIN:DAYLIGHT
TZOFFSETFROM:-0500
TZOFFSETTO:-0400
TZNAME:EDT
DTSTART:20240310T070000
END:DAYLIGHT
BEGIN:STANDARD
TZOFFSETFROM:-0400
TZOFFSETTO:-0500
TZNAME:EST
DTSTART:20241103T060000
END:STANDARD
BEGIN:DAYLIGHT
TZOFFSETFROM:-0500
TZOFFSETTO:-0400
TZNAME:EDT
DTSTART:20250309T070000
END:DAYLIGHT
BEGIN:STANDARD
TZOFFSETFROM:-0400
TZOFFSETTO:-0500
TZNAME:EST
DTSTART:20251102T060000
END:STANDARD
BEGIN:DAYLIGHT
TZOFFSETFROM:-0500
TZOFFSETTO:-0400
TZNAME:EDT
DTSTART:20260308T070000
END:DAYLIGHT
BEGIN:STANDARD
TZOFFSETFROM:-0400
TZOFFSETTO:-0500
TZNAME:EST
DTSTART:20261101T060000
END:STANDARD
BEGIN:DAYLIGHT
TZOFFSETFROM:-0500
TZOFFSETTO:-0400
TZNAME:EDT
DTSTART:20270314T070000
END:DAYLIGHT
BEGIN:STANDARD
TZOFFSETFROM:-0400
TZOFFSETTO:-0500
TZNAME:EST
DTSTART:20271107T060000
END:STANDARD
END:VTIMEZONE
BEGIN:VEVENT
DTSTART;TZID=America/New_York:20260208T140000
DTEND;TZID=America/New_York:20260208T170000
DTSTAMP:20260420T100134
CREATED:20260106T144546Z
LAST-MODIFIED:20260106T150253Z
UID:10018445-1770559200-1770570000@uucnh.org
SUMMARY:T&M - Shades of Kindness - Snow Day
DESCRIPTION:
URL:https://uucnh.org/event/tm-shades-of-kindness-snow-day/2026-02-08/
LOCATION:Youth Room
CATEGORIES:Faith Development for Adults
END:VEVENT
BEGIN:VEVENT
DTSTART;TZID=America/New_York:20260207T080000
DTEND;TZID=America/New_York:20260207T170000
DTSTAMP:20260420T100134
CREATED:20250924T151833Z
LAST-MODIFIED:20260106T145009Z
UID:10017734-1770451200-1770483600@uucnh.org
SUMMARY:T&M - Shades of Kindness
DESCRIPTION:
URL:https://uucnh.org/event/tm-cultural-compassion-workshop/2026-02-07/
LOCATION:Youth Room
CATEGORIES:Faith Development for Adults
END:VEVENT
BEGIN:VEVENT
DTSTART;TZID=America/New_York:20260201T140000
DTEND;TZID=America/New_York:20260201T153000
DTSTAMP:20260420T100134
CREATED:20260106T144546Z
LAST-MODIFIED:20260106T150253Z
UID:10018429-1769954400-1769959800@uucnh.org
SUMMARY:T&M - Shades of Kindness - Snow Day
DESCRIPTION:
URL:https://uucnh.org/event/tm-shades-of-kindness-snow-day/2026-02-01/
LOCATION:Youth Room
CATEGORIES:Faith Development for Adults
END:VEVENT
BEGIN:VEVENT
DTSTART;TZID=America/New_York:20260131T080000
DTEND;TZID=America/New_York:20260131T170000
DTSTAMP:20260420T100134
CREATED:20250924T151833Z
LAST-MODIFIED:20260106T145009Z
UID:10018433-1769846400-1769878800@uucnh.org
SUMMARY:T&M - Shades of Kindness
DESCRIPTION:
URL:https://uucnh.org/event/tm-cultural-compassion-workshop/2026-01-31/
LOCATION:Youth Room
CATEGORIES:Faith Development for Adults
END:VEVENT
BEGIN:VEVENT
DTSTART;TZID=America/New_York:20250225T190000
DTEND;TZID=America/New_York:20250225T210000
DTSTAMP:20260420T100134
CREATED:20250210T153240Z
LAST-MODIFIED:20250210T153240Z
UID:10016005-1740510000-1740517200@uucnh.org
SUMMARY:T -Tuesday Night covenant group
DESCRIPTION:
URL:https://uucnh.org/event/t-tuesday-night-covenant-group-2/
LOCATION:Youth Room
CATEGORIES:covenant groups
END:VEVENT
BEGIN:VEVENT
DTSTART;TZID=America/New_York:20250211T190000
DTEND;TZID=America/New_York:20250211T210000
DTSTAMP:20260420T100134
CREATED:20250207T184114Z
LAST-MODIFIED:20250207T184114Z
UID:10015926-1739300400-1739307600@uucnh.org
SUMMARY:T- Tuesday night Covenant Group
DESCRIPTION:
URL:https://uucnh.org/event/t-tuesday-night-covenant-group/
LOCATION:Youth Room
END:VEVENT
END:VCALENDAR