BEGIN:VCALENDAR
VERSION:2.0
PRODID:-//Unitarian Univeralist Church of the North Hills - ECPv6.15.17.1//NONSGML v1.0//EN
CALSCALE:GREGORIAN
METHOD:PUBLISH
X-ORIGINAL-URL:https://uucnh.org
X-WR-CALDESC:Events for Unitarian Univeralist Church of the North Hills
REFRESH-INTERVAL;VALUE=DURATION:PT1H
X-Robots-Tag:noindex
X-PUBLISHED-TTL:PT1H
BEGIN:VTIMEZONE
TZID:America/New_York
BEGIN:DAYLIGHT
TZOFFSETFROM:-0500
TZOFFSETTO:-0400
TZNAME:EDT
DTSTART:20290311T070000
END:DAYLIGHT
BEGIN:STANDARD
TZOFFSETFROM:-0400
TZOFFSETTO:-0500
TZNAME:EST
DTSTART:20291104T060000
END:STANDARD
BEGIN:DAYLIGHT
TZOFFSETFROM:-0500
TZOFFSETTO:-0400
TZNAME:EDT
DTSTART:20300310T070000
END:DAYLIGHT
BEGIN:STANDARD
TZOFFSETFROM:-0400
TZOFFSETTO:-0500
TZNAME:EST
DTSTART:20301103T060000
END:STANDARD
BEGIN:DAYLIGHT
TZOFFSETFROM:-0500
TZOFFSETTO:-0400
TZNAME:EDT
DTSTART:20310309T070000
END:DAYLIGHT
BEGIN:STANDARD
TZOFFSETFROM:-0400
TZOFFSETTO:-0500
TZNAME:EST
DTSTART:20311102T060000
END:STANDARD
END:VTIMEZONE
BEGIN:VEVENT
DTSTART;TZID=America/New_York:20300804T120000
DTEND;TZID=America/New_York:20300804T131500
DTSTAMP:20260421T003320
CREATED:20250207T165729Z
LAST-MODIFIED:20250207T165729Z
UID:10017527-1912075200-1912079700@uucnh.org
SUMMARY:WD & Z - PSI ( Philosophical\, Spiritual Insights)
DESCRIPTION:Join Zoom Meeting \nMeeting ID: 830 4405 2949\nPasscode: 932743
URL:https://uucnh.org/event/wd-z-psi-philosophical-spiritual-insights/2030-08-04/
LOCATION:Worth and Dignity Room
CATEGORIES:PSI
END:VEVENT
BEGIN:VEVENT
DTSTART;TZID=America/New_York:20300804T183000
DTEND;TZID=America/New_York:20300804T200000
DTSTAMP:20260421T003320
CREATED:20250916T190926Z
LAST-MODIFIED:20250916T190926Z
UID:10017590-1912098600-1912104000@uucnh.org
SUMMARY:E  - Survivors of Suicide Loss Group
DESCRIPTION:
URL:https://uucnh.org/event/e-survivors-of-suicide-loss-group/2030-08-04/
LOCATION:East Room
END:VEVENT
BEGIN:VEVENT
DTSTART;TZID=America/New_York:20300808T100000
DTEND;TZID=America/New_York:20300808T120000
DTSTAMP:20260421T003320
CREATED:20250207T164154Z
LAST-MODIFIED:20260312T141923Z
UID:10017481-1912413600-1912420800@uucnh.org
SUMMARY:E- Craft Group
DESCRIPTION:Meeting in person in the East Room
URL:https://uucnh.org/event/e-craft-group/2030-08-08/
END:VEVENT
BEGIN:VEVENT
DTSTART;TZID=America/New_York:20300808T193000
DTEND;TZID=America/New_York:20300808T210000
DTSTAMP:20260421T003320
CREATED:20250207T173327Z
LAST-MODIFIED:20250813T213449Z
UID:10017495-1912447800-1912453200@uucnh.org
SUMMARY:S- Choir Rehearsal
DESCRIPTION:
URL:https://uucnh.org/event/w-choir-rehearsal/2030-08-08/
LOCATION:West Room
CATEGORIES:Choir,Music
ORGANIZER;CN="Joyce Kepner":MAILTO:musicdirector@uucnh.org
END:VEVENT
END:VCALENDAR