BEGIN:VCALENDAR
VERSION:2.0
PRODID:-//Unitarian Univeralist Church of the North Hills - ECPv6.15.17.1//NONSGML v1.0//EN
CALSCALE:GREGORIAN
METHOD:PUBLISH
X-WR-CALNAME:Unitarian Univeralist Church of the North Hills
X-ORIGINAL-URL:https://uucnh.org
X-WR-CALDESC:Events for Unitarian Univeralist Church of the North Hills
REFRESH-INTERVAL;VALUE=DURATION:PT1H
X-Robots-Tag:noindex
X-PUBLISHED-TTL:PT1H
BEGIN:VTIMEZONE
TZID:America/New_York
BEGIN:DAYLIGHT
TZOFFSETFROM:-0500
TZOFFSETTO:-0400
TZNAME:EDT
DTSTART:20290311T070000
END:DAYLIGHT
BEGIN:STANDARD
TZOFFSETFROM:-0400
TZOFFSETTO:-0500
TZNAME:EST
DTSTART:20291104T060000
END:STANDARD
BEGIN:DAYLIGHT
TZOFFSETFROM:-0500
TZOFFSETTO:-0400
TZNAME:EDT
DTSTART:20300310T070000
END:DAYLIGHT
BEGIN:STANDARD
TZOFFSETFROM:-0400
TZOFFSETTO:-0500
TZNAME:EST
DTSTART:20301103T060000
END:STANDARD
BEGIN:DAYLIGHT
TZOFFSETFROM:-0500
TZOFFSETTO:-0400
TZNAME:EDT
DTSTART:20310309T070000
END:DAYLIGHT
BEGIN:STANDARD
TZOFFSETFROM:-0400
TZOFFSETTO:-0500
TZNAME:EST
DTSTART:20311102T060000
END:STANDARD
END:VTIMEZONE
BEGIN:VEVENT
DTSTART;TZID=America/New_York:20300519T120000
DTEND;TZID=America/New_York:20300519T131500
DTSTAMP:20260421T074132
CREATED:20250207T180007Z
LAST-MODIFIED:20250902T171236Z
UID:10017517-1905422400-1905426900@uucnh.org
SUMMARY:WD & Z-  Jesus Discussion Group
DESCRIPTION:Jesus Discussion Group – Tony Palermo\nJoin Zoom Meeting\nMeeting ID: 830 4405 2949\nPasscode: 932743
URL:https://uucnh.org/event/wd-z-jesus-discussion-group/2030-05-19/
LOCATION:Worth and Dignity Room
CATEGORIES:Jesus Discussion Group
END:VEVENT
BEGIN:VEVENT
DTSTART;TZID=America/New_York:20300522T190000
DTEND;TZID=America/New_York:20300522T210000
DTSTAMP:20260421T074132
CREATED:20250207T180534Z
LAST-MODIFIED:20250207T180534Z
UID:10017753-1905706800-1905714000@uucnh.org
SUMMARY:Z - Connections Team Meeting
DESCRIPTION:
URL:https://uucnh.org/event/z-connections-team-meeting/2030-05-22/
LOCATION:Zoom-GEN
END:VEVENT
BEGIN:VEVENT
DTSTART;TZID=America/New_York:20300523T100000
DTEND;TZID=America/New_York:20300523T120000
DTSTAMP:20260421T074132
CREATED:20250207T164154Z
LAST-MODIFIED:20260312T141923Z
UID:10017428-1905760800-1905768000@uucnh.org
SUMMARY:E- Craft Group
DESCRIPTION:Meeting in person in the East Room
URL:https://uucnh.org/event/e-craft-group/2030-05-23/
END:VEVENT
BEGIN:VEVENT
DTSTART;TZID=America/New_York:20300523T193000
DTEND;TZID=America/New_York:20300523T210000
DTSTAMP:20260421T074132
CREATED:20250207T173327Z
LAST-MODIFIED:20250813T213449Z
UID:10017484-1905795000-1905800400@uucnh.org
SUMMARY:S- Choir Rehearsal
DESCRIPTION:
URL:https://uucnh.org/event/w-choir-rehearsal/2030-05-23/
LOCATION:West Room
CATEGORIES:Choir,Music
ORGANIZER;CN="Joyce Kepner":MAILTO:musicdirector@uucnh.org
END:VEVENT
END:VCALENDAR