BEGIN:VCALENDAR
VERSION:2.0
PRODID:-//Unitarian Univeralist Church of the North Hills - ECPv6.15.17.1//NONSGML v1.0//EN
CALSCALE:GREGORIAN
METHOD:PUBLISH
X-WR-CALNAME:Unitarian Univeralist Church of the North Hills
X-ORIGINAL-URL:https://uucnh.org
X-WR-CALDESC:Events for Unitarian Univeralist Church of the North Hills
REFRESH-INTERVAL;VALUE=DURATION:PT1H
X-Robots-Tag:noindex
X-PUBLISHED-TTL:PT1H
BEGIN:VTIMEZONE
TZID:America/New_York
BEGIN:DAYLIGHT
TZOFFSETFROM:-0500
TZOFFSETTO:-0400
TZNAME:EDT
DTSTART:20290311T070000
END:DAYLIGHT
BEGIN:STANDARD
TZOFFSETFROM:-0400
TZOFFSETTO:-0500
TZNAME:EST
DTSTART:20291104T060000
END:STANDARD
BEGIN:DAYLIGHT
TZOFFSETFROM:-0500
TZOFFSETTO:-0400
TZNAME:EDT
DTSTART:20300310T070000
END:DAYLIGHT
BEGIN:STANDARD
TZOFFSETFROM:-0400
TZOFFSETTO:-0500
TZNAME:EST
DTSTART:20301103T060000
END:STANDARD
BEGIN:DAYLIGHT
TZOFFSETFROM:-0500
TZOFFSETTO:-0400
TZNAME:EDT
DTSTART:20310309T070000
END:DAYLIGHT
BEGIN:STANDARD
TZOFFSETFROM:-0400
TZOFFSETTO:-0500
TZNAME:EST
DTSTART:20311102T060000
END:STANDARD
END:VTIMEZONE
BEGIN:VEVENT
DTSTART;TZID=America/New_York:20300303T120000
DTEND;TZID=America/New_York:20300303T131500
DTSTAMP:20260420T040119
CREATED:20250207T165729Z
LAST-MODIFIED:20250207T165729Z
UID:10017522-1898769600-1898774100@uucnh.org
SUMMARY:WD & Z - PSI ( Philosophical\, Spiritual Insights)
DESCRIPTION:Join Zoom Meeting \nMeeting ID: 830 4405 2949\nPasscode: 932743
URL:https://uucnh.org/event/wd-z-psi-philosophical-spiritual-insights/2030-03-03/
LOCATION:Worth and Dignity Room
CATEGORIES:PSI
END:VEVENT
BEGIN:VEVENT
DTSTART;TZID=America/New_York:20300303T183000
DTEND;TZID=America/New_York:20300303T200000
DTSTAMP:20260420T040119
CREATED:20250916T190926Z
LAST-MODIFIED:20250916T190926Z
UID:10017585-1898793000-1898798400@uucnh.org
SUMMARY:E  - Survivors of Suicide Loss Group
DESCRIPTION:
URL:https://uucnh.org/event/e-survivors-of-suicide-loss-group/2030-03-03/
LOCATION:East Room
END:VEVENT
BEGIN:VEVENT
DTSTART;TZID=America/New_York:20300305T190000
DTEND;TZID=America/New_York:20300305T200000
DTSTAMP:20260420T040119
CREATED:20250207T161038Z
LAST-MODIFIED:20250513T182636Z
UID:10016499-1898967600-1898971200@uucnh.org
SUMMARY:Z- Zoom with UUCNH Friends
DESCRIPTION:This drop-in connection will be held every Tuesday from 3:30 pm – 4:30 pm and will be led by Michael Horwitz. \nContact: michaelhorwitz@uucnh.org for Zoom details
URL:https://uucnh.org/event/z-zoom-with-uucnh-friends/2030-03-05/
LOCATION:Zoom
CATEGORIES:Community
ATTACH;FMTTYPE=image/jpeg:https://uucnh.org/wp-content/uploads/2024/05/Writing-workshop2-scaled.jpg
END:VEVENT
BEGIN:VEVENT
DTSTART;TZID=America/New_York:20300307T100000
DTEND;TZID=America/New_York:20300307T120000
DTSTAMP:20260420T040119
CREATED:20250207T164154Z
LAST-MODIFIED:20260312T141923Z
UID:10017417-1899108000-1899115200@uucnh.org
SUMMARY:E- Craft Group
DESCRIPTION:Meeting in person in the East Room
URL:https://uucnh.org/event/e-craft-group/2030-03-07/
END:VEVENT
BEGIN:VEVENT
DTSTART;TZID=America/New_York:20300307T193000
DTEND;TZID=America/New_York:20300307T210000
DTSTAMP:20260420T040119
CREATED:20250207T173327Z
LAST-MODIFIED:20250813T213449Z
UID:10016312-1899142200-1899147600@uucnh.org
SUMMARY:S- Choir Rehearsal
DESCRIPTION:
URL:https://uucnh.org/event/w-choir-rehearsal/2030-03-07/
LOCATION:West Room
CATEGORIES:Choir,Music
ORGANIZER;CN="Joyce Kepner":MAILTO:musicdirector@uucnh.org
END:VEVENT
BEGIN:VEVENT
DTSTART;TZID=America/New_York:20300308T193000
DTEND;TZID=America/New_York:20300308T213000
DTSTAMP:20260420T040119
CREATED:20250716T185435Z
LAST-MODIFIED:20250716T185435Z
UID:10017404-1899228600-1899235800@uucnh.org
SUMMARY:W- Open Mic Night
DESCRIPTION:
URL:https://uucnh.org/event/w-open-mic-night/2030-03-08/
END:VEVENT
END:VCALENDAR