BEGIN:VCALENDAR
VERSION:2.0
PRODID:-//Unitarian Univeralist Church of the North Hills - ECPv6.15.17.1//NONSGML v1.0//EN
CALSCALE:GREGORIAN
METHOD:PUBLISH
X-WR-CALNAME:Unitarian Univeralist Church of the North Hills
X-ORIGINAL-URL:https://uucnh.org
X-WR-CALDESC:Events for Unitarian Univeralist Church of the North Hills
REFRESH-INTERVAL;VALUE=DURATION:PT1H
X-Robots-Tag:noindex
X-PUBLISHED-TTL:PT1H
BEGIN:VTIMEZONE
TZID:America/New_York
BEGIN:DAYLIGHT
TZOFFSETFROM:-0500
TZOFFSETTO:-0400
TZNAME:EDT
DTSTART:20250309T070000
END:DAYLIGHT
BEGIN:STANDARD
TZOFFSETFROM:-0400
TZOFFSETTO:-0500
TZNAME:EST
DTSTART:20251102T060000
END:STANDARD
BEGIN:DAYLIGHT
TZOFFSETFROM:-0500
TZOFFSETTO:-0400
TZNAME:EDT
DTSTART:20260308T070000
END:DAYLIGHT
BEGIN:STANDARD
TZOFFSETFROM:-0400
TZOFFSETTO:-0500
TZNAME:EST
DTSTART:20261101T060000
END:STANDARD
BEGIN:DAYLIGHT
TZOFFSETFROM:-0500
TZOFFSETTO:-0400
TZNAME:EDT
DTSTART:20270314T070000
END:DAYLIGHT
BEGIN:STANDARD
TZOFFSETFROM:-0400
TZOFFSETTO:-0500
TZNAME:EST
DTSTART:20271107T060000
END:STANDARD
END:VTIMEZONE
BEGIN:VEVENT
DTSTART;TZID=America/New_York:20260215T103000
DTEND;TZID=America/New_York:20260215T123000
DTSTAMP:20260419T104623
CREATED:20260212T160435Z
LAST-MODIFIED:20260212T160435Z
UID:10018486-1771151400-1771158600@uucnh.org
SUMMARY:Matters of the Heart.... and Other Organs
DESCRIPTION:Rev. Lee Anne Washington \nWe all know the heart is the seat of romantic love\, but is love really that simple? \nDuring this multigenerational service after Valentine’s Day\, we’ll explore various types of love (agape\, eros\, philiia\, and storge) and where in the body love has lived across cultures and centuries: in the heart\, yes… but also in the liver (courage)\, the gut (compassion)\, the brain (choice)\, and the hands (action). \nJoin us and discover that love may be more embodied\, more powerful\, more resilient\, and more nuanced than we ever imagined.
URL:https://uucnh.org/event/matters-of-the-heart-and-other-organs/
LOCATION:West Room and Zoom
CATEGORIES:Sunday Service
ATTACH;FMTTYPE=image/jpeg:https://uucnh.org/wp-content/uploads/2026/02/pexels-pixabay-356319-scaled.jpg
END:VEVENT
END:VCALENDAR