BEGIN:VCALENDAR
VERSION:2.0
PRODID:-//Unitarian Univeralist Church of the North Hills - ECPv6.15.17.1//NONSGML v1.0//EN
CALSCALE:GREGORIAN
METHOD:PUBLISH
X-ORIGINAL-URL:https://uucnh.org
X-WR-CALDESC:Events for Unitarian Univeralist Church of the North Hills
REFRESH-INTERVAL;VALUE=DURATION:PT1H
X-Robots-Tag:noindex
X-PUBLISHED-TTL:PT1H
BEGIN:VTIMEZONE
TZID:America/New_York
BEGIN:DAYLIGHT
TZOFFSETFROM:-0500
TZOFFSETTO:-0400
TZNAME:EDT
DTSTART:20240310T070000
END:DAYLIGHT
BEGIN:STANDARD
TZOFFSETFROM:-0400
TZOFFSETTO:-0500
TZNAME:EST
DTSTART:20241103T060000
END:STANDARD
BEGIN:DAYLIGHT
TZOFFSETFROM:-0500
TZOFFSETTO:-0400
TZNAME:EDT
DTSTART:20250309T070000
END:DAYLIGHT
BEGIN:STANDARD
TZOFFSETFROM:-0400
TZOFFSETTO:-0500
TZNAME:EST
DTSTART:20251102T060000
END:STANDARD
BEGIN:DAYLIGHT
TZOFFSETFROM:-0500
TZOFFSETTO:-0400
TZNAME:EDT
DTSTART:20260308T070000
END:DAYLIGHT
BEGIN:STANDARD
TZOFFSETFROM:-0400
TZOFFSETTO:-0500
TZNAME:EST
DTSTART:20261101T060000
END:STANDARD
END:VTIMEZONE
BEGIN:VEVENT
DTSTART;TZID=America/New_York:20251102T103000
DTEND;TZID=America/New_York:20251102T123000
DTSTAMP:20260420T001619
CREATED:20251030T152308Z
LAST-MODIFIED:20251030T152308Z
UID:10017772-1762079400-1762086600@uucnh.org
SUMMARY:Día De Los Muertos Multigenerational Service
DESCRIPTION:Rev. Lee Anne Washington \n\n\nThis multigenerational service will be highly interactive with different creativity stations and opportunities to honor the dead. We will also have a few of our children joining the choir to sing a medley from the movie Coco. \nThe church will be decorated for the event and an ofrenda (a traditional altar to honor and welcome spirits of deceased loved ones) will be in the Sanctuary. \nPlease bring a picture of deceased family member (both furry and human) and/or an item that reminds you of them to place on the ofrenda. \nPlease bring your deceased loved one’s favorite food (no dog food please) to share at coffee hour. \nWe will be celebrating this traditional Mexican holiday in the same way and with the same intention as they do in Mexico. By doing this\, we will celebrate the cycle of life and death in an appreciative and celebratory manner.
URL:https://uucnh.org/event/dia-de-los-muertos-multigenerational-service/
LOCATION:West Room and Zoom
CATEGORIES:Sunday Service
ATTACH;FMTTYPE=image/png:https://uucnh.org/wp-content/uploads/2025/10/Screenshot-2025-10-30-111920.png
END:VEVENT
END:VCALENDAR