BEGIN:VCALENDAR
VERSION:2.0
PRODID:-//Unitarian Univeralist Church of the North Hills - ECPv6.15.17.1//NONSGML v1.0//EN
CALSCALE:GREGORIAN
METHOD:PUBLISH
X-WR-CALNAME:Unitarian Univeralist Church of the North Hills
X-ORIGINAL-URL:https://uucnh.org
X-WR-CALDESC:Events for Unitarian Univeralist Church of the North Hills
REFRESH-INTERVAL;VALUE=DURATION:PT1H
X-Robots-Tag:noindex
X-PUBLISHED-TTL:PT1H
BEGIN:VTIMEZONE
TZID:America/New_York
BEGIN:DAYLIGHT
TZOFFSETFROM:-0500
TZOFFSETTO:-0400
TZNAME:EDT
DTSTART:20250309T070000
END:DAYLIGHT
BEGIN:STANDARD
TZOFFSETFROM:-0400
TZOFFSETTO:-0500
TZNAME:EST
DTSTART:20251102T060000
END:STANDARD
BEGIN:DAYLIGHT
TZOFFSETFROM:-0500
TZOFFSETTO:-0400
TZNAME:EDT
DTSTART:20260308T070000
END:DAYLIGHT
BEGIN:STANDARD
TZOFFSETFROM:-0400
TZOFFSETTO:-0500
TZNAME:EST
DTSTART:20261101T060000
END:STANDARD
BEGIN:DAYLIGHT
TZOFFSETFROM:-0500
TZOFFSETTO:-0400
TZNAME:EDT
DTSTART:20270314T070000
END:DAYLIGHT
BEGIN:STANDARD
TZOFFSETFROM:-0400
TZOFFSETTO:-0500
TZNAME:EST
DTSTART:20271107T060000
END:STANDARD
END:VTIMEZONE
BEGIN:VEVENT
DTSTART;TZID=America/New_York:20260419T103000
DTEND;TZID=America/New_York:20260419T123000
DTSTAMP:20260419T230729
CREATED:20260419T021924Z
LAST-MODIFIED:20260419T021939Z
UID:10018697-1776594600-1776601800@uucnh.org
SUMMARY:Misteakz!
DESCRIPTION:UUCNH Youth Group\n\n\n\n\n\nOur youth group will tell the story of the\, EVIL Eraser\, the spirit of every perfectionist\, who will learn to live with their mistakes.
URL:https://uucnh.org/event/misteakz/
LOCATION:West Room and Zoom
CATEGORIES:Sunday Service
ATTACH;FMTTYPE=image/png:https://uucnh.org/wp-content/uploads/2026/04/Screenshot-2026-04-18-221737.png
END:VEVENT
END:VCALENDAR