BEGIN:VCALENDAR
VERSION:2.0
PRODID:-//Unitarian Univeralist Church of the North Hills - ECPv6.15.17.1//NONSGML v1.0//EN
CALSCALE:GREGORIAN
METHOD:PUBLISH
X-WR-CALNAME:Unitarian Univeralist Church of the North Hills
X-ORIGINAL-URL:https://uucnh.org
X-WR-CALDESC:Events for Unitarian Univeralist Church of the North Hills
REFRESH-INTERVAL;VALUE=DURATION:PT1H
X-Robots-Tag:noindex
X-PUBLISHED-TTL:PT1H
BEGIN:VTIMEZONE
TZID:America/New_York
BEGIN:DAYLIGHT
TZOFFSETFROM:-0500
TZOFFSETTO:-0400
TZNAME:EDT
DTSTART:20240310T070000
END:DAYLIGHT
BEGIN:STANDARD
TZOFFSETFROM:-0400
TZOFFSETTO:-0500
TZNAME:EST
DTSTART:20241103T060000
END:STANDARD
BEGIN:DAYLIGHT
TZOFFSETFROM:-0500
TZOFFSETTO:-0400
TZNAME:EDT
DTSTART:20250309T070000
END:DAYLIGHT
BEGIN:STANDARD
TZOFFSETFROM:-0400
TZOFFSETTO:-0500
TZNAME:EST
DTSTART:20251102T060000
END:STANDARD
BEGIN:DAYLIGHT
TZOFFSETFROM:-0500
TZOFFSETTO:-0400
TZNAME:EDT
DTSTART:20260308T070000
END:DAYLIGHT
BEGIN:STANDARD
TZOFFSETFROM:-0400
TZOFFSETTO:-0500
TZNAME:EST
DTSTART:20261101T060000
END:STANDARD
END:VTIMEZONE
BEGIN:VEVENT
DTSTART;TZID=America/New_York:20250323T103000
DTEND;TZID=America/New_York:20250323T123000
DTSTAMP:20260421T194409
CREATED:20250321T160704Z
LAST-MODIFIED:20250321T160704Z
UID:10016242-1742725800-1742733000@uucnh.org
SUMMARY:Trusting the Ripples: Healing Ourselves\, Healing the World
DESCRIPTION:Presented by Rev. Lee Anne Washington \nIn a world often fractured by injustice and fear\, how do we hold on to trust—trust in each other\, in the power of compassion\, and in the possibility of change? Drawing on the Jewish concept of Tikkun Olam and Buddhist principles of personal transformation\, this message explores how inner healing and ethical action are deeply intertwined. With trust as our guiding force\, we’ll consider how small acts of justice and compassion can ripple outward\, transforming both society and ourselves. Together\, we’ll reflect on the courage it takes to trust in the unseen fruits of kindness—and the hope that sustains us when the world feels beyond repair. \nDuring the duration of our OWL program\, all children should report directly to their respective classrooms. \nClick here to view the LIVESTREAM on YouTube. \nAfter the event has ended\, you may watch this and other RECORDINGS on the UUCNH YouTube channel.
URL:https://uucnh.org/event/trusting-the-ripples-healing-ourselves-healing-the-world/
LOCATION:West Room and Zoom
CATEGORIES:Sunday Service
ATTACH;FMTTYPE=image/jpeg:https://uucnh.org/wp-content/uploads/2025/03/pexels-josh-hild-1270765-2422560-scaled.jpg
END:VEVENT
END:VCALENDAR