BEGIN:VCALENDAR
VERSION:2.0
PRODID:-//Unitarian Univeralist Church of the North Hills - ECPv6.15.17.1//NONSGML v1.0//EN
CALSCALE:GREGORIAN
METHOD:PUBLISH
X-ORIGINAL-URL:https://uucnh.org
X-WR-CALDESC:Events for Unitarian Univeralist Church of the North Hills
REFRESH-INTERVAL;VALUE=DURATION:PT1H
X-Robots-Tag:noindex
X-PUBLISHED-TTL:PT1H
BEGIN:VTIMEZONE
TZID:America/New_York
BEGIN:DAYLIGHT
TZOFFSETFROM:-0500
TZOFFSETTO:-0400
TZNAME:EDT
DTSTART:20240310T070000
END:DAYLIGHT
BEGIN:STANDARD
TZOFFSETFROM:-0400
TZOFFSETTO:-0500
TZNAME:EST
DTSTART:20241103T060000
END:STANDARD
BEGIN:DAYLIGHT
TZOFFSETFROM:-0500
TZOFFSETTO:-0400
TZNAME:EDT
DTSTART:20250309T070000
END:DAYLIGHT
BEGIN:STANDARD
TZOFFSETFROM:-0400
TZOFFSETTO:-0500
TZNAME:EST
DTSTART:20251102T060000
END:STANDARD
BEGIN:DAYLIGHT
TZOFFSETFROM:-0500
TZOFFSETTO:-0400
TZNAME:EDT
DTSTART:20260308T070000
END:DAYLIGHT
BEGIN:STANDARD
TZOFFSETFROM:-0400
TZOFFSETTO:-0500
TZNAME:EST
DTSTART:20261101T060000
END:STANDARD
END:VTIMEZONE
BEGIN:VEVENT
DTSTART;TZID=America/New_York:20250216T103000
DTEND;TZID=America/New_York:20250216T123000
DTSTAMP:20260421T214221
CREATED:20250213T184917Z
LAST-MODIFIED:20250306T155640Z
UID:10016014-1739701800-1739709000@uucnh.org
SUMMARY:Our Fourth Principle: A Free and Responsible Search for Truth
DESCRIPTION:  \nRev. Lee Anne Washington \nNowadays\, with most of our sources of information aligned with one political party or social perspective\, it’s tremendously difficult to discern what is true. On Sunday\, we will consider a BBC article fact-checking Elon Musk\, while engaging in a free and responsible search for truth. We will consider how recognizing emotional triggers and logical fallacies helps us discern the truth and protects us from being overcome by our worst fears. \n  \nYou can read the BBC Article here. \nDuring the duration of our OWL program\, all children should report directly to their respective classrooms. \n  \nAll are welcome to join us in person in the West Room. \nClick here to view the LIVESTREAM on YouTube. \nAfter the event has ended\, you may watch this and other RECORDINGS on the UUCNH YouTube channel.
URL:https://uucnh.org/event/our-fourth-principle-a-free-and-responsible-search-for-truth/
LOCATION:West Room and Zoom
CATEGORIES:Sunday Service
ATTACH;FMTTYPE=image/jpeg:https://uucnh.org/wp-content/uploads/2025/02/pexels-lilartsy-1194775-scaled.jpg
END:VEVENT
END:VCALENDAR