BEGIN:VCALENDAR
VERSION:2.0
PRODID:-//Unitarian Univeralist Church of the North Hills - ECPv6.15.17.1//NONSGML v1.0//EN
CALSCALE:GREGORIAN
METHOD:PUBLISH
X-ORIGINAL-URL:https://uucnh.org
X-WR-CALDESC:Events for Unitarian Univeralist Church of the North Hills
REFRESH-INTERVAL;VALUE=DURATION:PT1H
X-Robots-Tag:noindex
X-PUBLISHED-TTL:PT1H
BEGIN:VTIMEZONE
TZID:America/New_York
BEGIN:DAYLIGHT
TZOFFSETFROM:-0500
TZOFFSETTO:-0400
TZNAME:EDT
DTSTART:20240310T070000
END:DAYLIGHT
BEGIN:STANDARD
TZOFFSETFROM:-0400
TZOFFSETTO:-0500
TZNAME:EST
DTSTART:20241103T060000
END:STANDARD
BEGIN:DAYLIGHT
TZOFFSETFROM:-0500
TZOFFSETTO:-0400
TZNAME:EDT
DTSTART:20250309T070000
END:DAYLIGHT
BEGIN:STANDARD
TZOFFSETFROM:-0400
TZOFFSETTO:-0500
TZNAME:EST
DTSTART:20251102T060000
END:STANDARD
BEGIN:DAYLIGHT
TZOFFSETFROM:-0500
TZOFFSETTO:-0400
TZNAME:EDT
DTSTART:20260308T070000
END:DAYLIGHT
BEGIN:STANDARD
TZOFFSETFROM:-0400
TZOFFSETTO:-0500
TZNAME:EST
DTSTART:20261101T060000
END:STANDARD
END:VTIMEZONE
BEGIN:VEVENT
DTSTART;TZID=America/New_York:20251207T103000
DTEND;TZID=America/New_York:20251207T123000
DTSTAMP:20260419T153623
CREATED:20251203T181045Z
LAST-MODIFIED:20251203T181045Z
UID:10017802-1765103400-1765110600@uucnh.org
SUMMARY:Make a Joyful Noise - A Unitarian Perspective on Christmas
DESCRIPTION:Rev. Lee Anne Washington \n\n\nJoin us this Sunday for a Christmas Carol service rooted in historic Unitarian tradition. Through beloved carols and brief reflections\, we’ll journey from the angels’ song we seldom understand\, to an honest look at the world’s pain\, and finally to the joyful work of helping manifest a more just and hopeful world. Together we’ll rediscover the Christmas story not as a supernatural spectacle\, but as a call to courageous clarity\, acts of compassion\, and enduring hope. Let the music lift your heart—and your resolve. \nWe will also hear The Mitten Tree and decorate our tree with mittens\, scarves\, and hats. Please remember to bring your contribution to the tree\, whose decorations will be donated to North Hills Community Outreach.   
URL:https://uucnh.org/event/make-a-joyful-noise-a-unitarian-perspective-on-christmas/
LOCATION:West Room and Zoom
CATEGORIES:Sunday Service
ATTACH;FMTTYPE=image/png:https://uucnh.org/wp-content/uploads/2025/12/Screenshot-2025-12-03-130222.png
END:VEVENT
BEGIN:VEVENT
DTSTART;TZID=America/New_York:20251214T103000
DTEND;TZID=America/New_York:20251214T123000
DTSTAMP:20260419T153623
CREATED:20251209T211105Z
LAST-MODIFIED:20251215T131656Z
UID:10017807-1765708200-1765715400@uucnh.org
SUMMARY:Church Closed due to Inclement Weather
DESCRIPTION:
URL:https://uucnh.org/event/holiday-pageant-the-latke-who-couldnt-stop-screaming-a-christmas-story-about-hannukah/
LOCATION:West Room and Zoom
CATEGORIES:Sunday Service
END:VEVENT
BEGIN:VEVENT
DTSTART;TZID=America/New_York:20251220T170000
DTEND;TZID=America/New_York:20251220T210000
DTSTAMP:20260419T153623
CREATED:20251217T211503Z
LAST-MODIFIED:20251217T211650Z
UID:10017812-1766250000-1766264400@uucnh.org
SUMMARY:Winter Solstice Service
DESCRIPTION: 
URL:https://uucnh.org/event/summer-solstice-service/
LOCATION:West Room and Zoom
CATEGORIES:Sunday Service
ATTACH;FMTTYPE=image/png:https://uucnh.org/wp-content/uploads/2025/12/Screenshot-2025-12-17-161615.png
END:VEVENT
BEGIN:VEVENT
DTSTART;TZID=America/New_York:20251221T103000
DTEND;TZID=America/New_York:20251221T123000
DTSTAMP:20260419T153623
CREATED:20251215T131504Z
LAST-MODIFIED:20251215T131543Z
UID:10017808-1766313000-1766320200@uucnh.org
SUMMARY:Holiday Pageant - The Latke Who Couldn't Stop Screaming - A Christmas Story about Hanukkah
DESCRIPTION:UUCNH Children and Youth \nSunday is the first night of Hanukkah. \nJoin us as we explore the inspirational story that gave rise to this holiday and light the first candle. \nOur children and youth will tell the story of a potato pancake desperate to distinguish himself and his holiday from all things Christmas. \nEnjoy the amazing costumes and set designed by Michelle Broge-Connor\, the inspired direction of Robyn Travers\, and the exquisite stage managing of one of our youth\, Evelyn Erbrecht. \nPlease bring a dozen or two cookies to share in our annual cookie exchange to occur after the service. \nWe will also be trimming our tree and decorating the church for the holidays.
URL:https://uucnh.org/event/holiday-pageant-the-latke-who-couldnt-stop-screaming-a-christmas-story-about-hanukkah/
LOCATION:West Room and Zoom
CATEGORIES:Sunday Service
ATTACH;FMTTYPE=image/jpeg:https://uucnh.org/wp-content/uploads/2025/12/download-16.jpg
END:VEVENT
BEGIN:VEVENT
DTSTART;TZID=America/New_York:20251224T170000
DTEND;TZID=America/New_York:20251224T210000
DTSTAMP:20260419T153623
CREATED:20251217T211212Z
LAST-MODIFIED:20251217T211212Z
UID:10017811-1766595600-1766610000@uucnh.org
SUMMARY:Christmas Eve Candlelight Service and Potluck
DESCRIPTION: 
URL:https://uucnh.org/event/christmas-eve-candlelight-service-and-potluck-2/
LOCATION:West Room and Zoom
CATEGORIES:Sunday Service
ATTACH;FMTTYPE=image/jpeg:https://uucnh.org/wp-content/uploads/2024/11/candle.jpg
END:VEVENT
BEGIN:VEVENT
DTSTART;TZID=America/New_York:20251228T103000
DTEND;TZID=America/New_York:20251228T123000
DTSTAMP:20260419T153623
CREATED:20251226T151444Z
LAST-MODIFIED:20251226T151444Z
UID:10018385-1766917800-1766925000@uucnh.org
SUMMARY:"Choosing Hope” with CeaseFire PA
DESCRIPTION:Sunday Services Team \nThis Sunday\, we welcome Beth Foringer\, Senior Southwest PA Coordinator with CeaseFirePA\, as our guest speaker. Her sermon\, “Choosing Hope”\, is offered on the Sunday after Christmas\, a time to reflect on how we carry hope forward when the holidays end and the work of justice remains. We hope you will join us as we reflect together on choosing hope and turning it into action. (Content warning: Gun violence)
URL:https://uucnh.org/event/choosing-hope-with-ceasefire-pa/
LOCATION:West Room and Zoom
CATEGORIES:Sunday Service
ATTACH;FMTTYPE=image/png:https://uucnh.org/wp-content/uploads/2025/12/Screenshot-2025-12-26-101101.png
END:VEVENT
END:VCALENDAR