BEGIN:VCALENDAR
VERSION:2.0
PRODID:-//Unitarian Univeralist Church of the North Hills - ECPv6.15.17.1//NONSGML v1.0//EN
CALSCALE:GREGORIAN
METHOD:PUBLISH
X-ORIGINAL-URL:https://uucnh.org
X-WR-CALDESC:Events for Unitarian Univeralist Church of the North Hills
REFRESH-INTERVAL;VALUE=DURATION:PT1H
X-Robots-Tag:noindex
X-PUBLISHED-TTL:PT1H
BEGIN:VTIMEZONE
TZID:America/New_York
BEGIN:DAYLIGHT
TZOFFSETFROM:-0500
TZOFFSETTO:-0400
TZNAME:EDT
DTSTART:20240310T070000
END:DAYLIGHT
BEGIN:STANDARD
TZOFFSETFROM:-0400
TZOFFSETTO:-0500
TZNAME:EST
DTSTART:20241103T060000
END:STANDARD
BEGIN:DAYLIGHT
TZOFFSETFROM:-0500
TZOFFSETTO:-0400
TZNAME:EDT
DTSTART:20250309T070000
END:DAYLIGHT
BEGIN:STANDARD
TZOFFSETFROM:-0400
TZOFFSETTO:-0500
TZNAME:EST
DTSTART:20251102T060000
END:STANDARD
BEGIN:DAYLIGHT
TZOFFSETFROM:-0500
TZOFFSETTO:-0400
TZNAME:EDT
DTSTART:20260308T070000
END:DAYLIGHT
BEGIN:STANDARD
TZOFFSETFROM:-0400
TZOFFSETTO:-0500
TZNAME:EST
DTSTART:20261101T060000
END:STANDARD
END:VTIMEZONE
BEGIN:VEVENT
DTSTART;TZID=America/New_York:20250907T103000
DTEND;TZID=America/New_York:20250907T123000
DTSTAMP:20260420T205636
CREATED:20250905T154118Z
LAST-MODIFIED:20250905T154118Z
UID:10017532-1757241000-1757248200@uucnh.org
SUMMARY:When the Waters Rise
DESCRIPTION:Rev. Lee Anne Washington \nWith news of mass deportations\, soldiers in the streets\, and cease fires around the world being rejected\, emotions are running high. We will explore some Buddhist lessons about how to build an island of refuge that no flood of emotion can overwhelm.  \nAs summertime comes to an end\, we Unitarian Universalists gather together for water communion. You are invited to bring a little water from the nearest water source (run\, stream\, pond\, river\, your faucet) to contribute to our communal bowl. You’ll also receive a blessing from our shared water communion. If you are able\, please bring a contribution to the potluck lunch that will follow. Drinks will be provided by the church. \nPlease note: this service may run overtime as there is no way to know how long water communion will take. So\, please bring your patience along with your water! Water will be available for those who forget. \n\n\nClick here to view the LIVESTREAM on YouTube. \nAfter the event has ended\, you may watch this and other RECORDINGS on the UUCNH YouTube channel.
URL:https://uucnh.org/event/when-the-waters-rise/
LOCATION:West Room and Zoom
CATEGORIES:Sunday Service
ATTACH;FMTTYPE=image/jpeg:https://uucnh.org/wp-content/uploads/2025/09/pexels-pixabay-355288-scaled.jpg
END:VEVENT
BEGIN:VEVENT
DTSTART;TZID=America/New_York:20250914T103000
DTEND;TZID=America/New_York:20250914T123000
DTSTAMP:20260420T205636
CREATED:20250911T170116Z
LAST-MODIFIED:20250911T170132Z
UID:10017534-1757845800-1757853000@uucnh.org
SUMMARY:The Jewish Family and Children's Services
DESCRIPTION:Christine Lagnese \nJFCS Community Engagement Coordinator \nOur Church has been working with JFCS to help local immigrants and refugees get settled in the Pittsburgh area. We will talk about that and the many other services that JFCS provides for the greater Pittsburgh area. \n\n\nClick here to view the LIVESTREAM on YouTube. \nAfter the event has ended\, you may watch this and other RECORDINGS on the UUCNH YouTube channel.
URL:https://uucnh.org/event/the-jewish-family-and-childrens-services/
LOCATION:West Room and Zoom
CATEGORIES:Sunday Service
ATTACH;FMTTYPE=image/png:https://uucnh.org/wp-content/uploads/2025/09/Screenshot-2025-09-11-125517.png
END:VEVENT
BEGIN:VEVENT
DTSTART;TZID=America/New_York:20250921T103000
DTEND;TZID=America/New_York:20250921T123000
DTSTAMP:20260420T205636
CREATED:20250918T184705Z
LAST-MODIFIED:20250918T184705Z
UID:10017592-1758450600-1758457800@uucnh.org
SUMMARY:Autumn Equinox – Finding Equilibrium
DESCRIPTION:Rev. Lee Anne Washington \n\n\n\nThe Autumn Equinox\, also referred to as Mabon\, marks when day and night are roughly equal in length. It is a time of reflection and preparation. Join us as Rev. Lee Anne explores some thoughts on how to periodically return to a personal place of equilibrium and peace.  \n\n\n\n\n\nClick here to view the LIVESTREAM on YouTube. \nAfter the event has ended\, you may watch this and other RECORDINGS on the UUCNH YouTube channel.
URL:https://uucnh.org/event/autumn-equinox-finding-equilibrium/
LOCATION:West Room and Zoom
CATEGORIES:Sunday Service
ATTACH;FMTTYPE=image/jpeg:https://uucnh.org/wp-content/uploads/2025/09/pexels-cottonbro-6034772-scaled.jpg
END:VEVENT
BEGIN:VEVENT
DTSTART;TZID=America/New_York:20250928T103000
DTEND;TZID=America/New_York:20250928T123000
DTSTAMP:20260420T205636
CREATED:20250926T192345Z
LAST-MODIFIED:20250926T192345Z
UID:10017737-1759055400-1759062600@uucnh.org
SUMMARY:We Begin Again In Love
DESCRIPTION:Rev. Lee Anne Washington \nAbout this time every year\, Jews gather to celebrate the holiest day of the year\, Yom Kippur. It is a time for self-reflection\, atonement\, repentance\, and forgiveness. Though Unitarian Universalists have not traditionally engaged in a similar annual practice\, we do have hymns and liturgy that support us in doing so. Join us as Rev. Lee Anne shares her experience as a Modern Orthodox Jewish woman celebrating Yom Kippur in Washington\, DC. and invites us into a similar\, but uniquely UU practice.   \n\n\nClick here to view the LIVESTREAM on YouTube. \nAfter the event has ended\, you may watch this and other RECORDINGS on the UUCNH YouTube channel.
URL:https://uucnh.org/event/we-begin-again-in-love-2/
LOCATION:West Room and Zoom
CATEGORIES:Sunday Service
ATTACH;FMTTYPE=image/png:https://uucnh.org/wp-content/uploads/2025/09/Screenshot-2025-09-25-142921.png
END:VEVENT
END:VCALENDAR