BEGIN:VCALENDAR
VERSION:2.0
PRODID:-//Unitarian Univeralist Church of the North Hills - ECPv6.15.17.1//NONSGML v1.0//EN
CALSCALE:GREGORIAN
METHOD:PUBLISH
X-ORIGINAL-URL:https://uucnh.org
X-WR-CALDESC:Events for Unitarian Univeralist Church of the North Hills
REFRESH-INTERVAL;VALUE=DURATION:PT1H
X-Robots-Tag:noindex
X-PUBLISHED-TTL:PT1H
BEGIN:VTIMEZONE
TZID:America/New_York
BEGIN:DAYLIGHT
TZOFFSETFROM:-0500
TZOFFSETTO:-0400
TZNAME:EDT
DTSTART:20240310T070000
END:DAYLIGHT
BEGIN:STANDARD
TZOFFSETFROM:-0400
TZOFFSETTO:-0500
TZNAME:EST
DTSTART:20241103T060000
END:STANDARD
BEGIN:DAYLIGHT
TZOFFSETFROM:-0500
TZOFFSETTO:-0400
TZNAME:EDT
DTSTART:20250309T070000
END:DAYLIGHT
BEGIN:STANDARD
TZOFFSETFROM:-0400
TZOFFSETTO:-0500
TZNAME:EST
DTSTART:20251102T060000
END:STANDARD
BEGIN:DAYLIGHT
TZOFFSETFROM:-0500
TZOFFSETTO:-0400
TZNAME:EDT
DTSTART:20260308T070000
END:DAYLIGHT
BEGIN:STANDARD
TZOFFSETFROM:-0400
TZOFFSETTO:-0500
TZNAME:EST
DTSTART:20261101T060000
END:STANDARD
END:VTIMEZONE
BEGIN:VEVENT
DTSTART;TZID=America/New_York:20250803T103000
DTEND;TZID=America/New_York:20250803T123000
DTSTAMP:20260420T162853
CREATED:20250731T165250Z
LAST-MODIFIED:20250731T165250Z
UID:10017447-1754217000-1754224200@uucnh.org
SUMMARY:Food For Thought
DESCRIPTION:Community pantry food and supplies often run low in the summer months\, during the time of year when many kids are home and missing school breakfast and lunches. Join us in our retelling of the “Stone Soup” parable\, and we encourage you to bring a non-perishable food or pantry item to donate with a can opener! \n  \n\n\nClick here to view the LIVESTREAM on YouTube. \nAfter the event has ended\, you may watch this and other RECORDINGS on the UUCNH YouTube channel.
URL:https://uucnh.org/event/food-for-thought/
LOCATION:West Room and Zoom
CATEGORIES:Sunday Service
ATTACH;FMTTYPE=image/jpeg:https://uucnh.org/wp-content/uploads/2025/07/pexels-julia-m-cameron-6994944-scaled.jpg
END:VEVENT
BEGIN:VEVENT
DTSTART;TZID=America/New_York:20250810T103000
DTEND;TZID=America/New_York:20250810T123000
DTSTAMP:20260420T162853
CREATED:20250806T212924Z
LAST-MODIFIED:20250806T212924Z
UID:10017462-1754821800-1754829000@uucnh.org
SUMMARY:May The Forest Be With You
DESCRIPTION:  \nPeggy Fallon \nThe practice of forest bathing turns out to have a substantive\, scientific basis in promoting human health. Trees produce natural chemical aerosols that directly benefit our immune systems\, promote relaxation\, reduce inflammation\, & even contain cancer fighting compounds. Trees do all this for us\, in addition to the vital business of using carbon dioxide\, producing oxygen & sequestering carbon. What will we\, in turn\, do for the trees? \n  \n\n\nClick here to view the LIVESTREAM on YouTube. \nAfter the event has ended\, you may watch this and other RECORDINGS on the UUCNH YouTube channel.
URL:https://uucnh.org/event/may-the-forest-be-with-you/
LOCATION:West Room and Zoom
CATEGORIES:Sunday Service
ATTACH;FMTTYPE=image/jpeg:https://uucnh.org/wp-content/uploads/2025/08/pexels-umkreisel-app-957024-scaled.jpg
END:VEVENT
BEGIN:VEVENT
DTSTART;TZID=America/New_York:20250817T103000
DTEND;TZID=America/New_York:20250817T123000
DTSTAMP:20260420T162853
CREATED:20250813T212708Z
LAST-MODIFIED:20250813T212708Z
UID:10017478-1755426600-1755433800@uucnh.org
SUMMARY:What's in your Invisible Backpack?
DESCRIPTION:Robyn Travers \nMila is excited and worried for her first day of school. We all know that feeling\, heading into the unknown. Well\, Mila finds out that she has an invisible backpack with all the tools she needs. We all do too. Let’s explore together in this multigenerational service. \nPlease bring your actual backpacks\, purses\, work bags\, computer cases\, totes… or whatever you use on a daily basis so they can be blessed or the year ahead. \nAlso bring back to school supplies to donate to kids in need. \n  \n\n\nClick here to view the LIVESTREAM on YouTube. \nAfter the event has ended\, you may watch this and other RECORDINGS on the UUCNH YouTube channel.
URL:https://uucnh.org/event/whats-in-your-invisible-backpack/
LOCATION:West Room and Zoom
CATEGORIES:Sunday Service
ATTACH;FMTTYPE=image/jpeg:https://uucnh.org/wp-content/uploads/2025/08/pexels-sebastian-214574-scaled.jpg
END:VEVENT
BEGIN:VEVENT
DTSTART;TZID=America/New_York:20250824T103000
DTEND;TZID=America/New_York:20250824T123000
DTSTAMP:20260420T162853
CREATED:20250821T205715Z
LAST-MODIFIED:20250821T205715Z
UID:10017507-1756031400-1756038600@uucnh.org
SUMMARY:Our Fourth Principle (focus on free & responsible search)
DESCRIPTION:Rev. Lee Anne Washington \nThrough our fourth principle\, we affirm and promote the free and responsible search for truth and meaning. In today’s world\, highly polarized partisan purveyors of the news make it difficult to discern fact from fiction\, misinformation from disinformation\, and reasoned discourse from emotional propaganda. In the first of three services focused on our fourth principle\, we will explore its meaning and its history as a bedrock commitment of Unitarian Universalists.    \n\n\nClick here to view the LIVESTREAM on YouTube. \nAfter the event has ended\, you may watch this and other RECORDINGS on the UUCNH YouTube channel.
URL:https://uucnh.org/event/our-fourth-principle-focus-on-free-responsible-search/
LOCATION:West Room and Zoom
CATEGORIES:Sunday Service
ATTACH;FMTTYPE=image/jpeg:https://uucnh.org/wp-content/uploads/2025/08/pexels-pixabay-163185-scaled.jpg
END:VEVENT
BEGIN:VEVENT
DTSTART;TZID=America/New_York:20250831T103000
DTEND;TZID=America/New_York:20250831T123000
DTSTAMP:20260420T162853
CREATED:20250829T171624Z
LAST-MODIFIED:20250829T171624Z
UID:10017513-1756636200-1756643400@uucnh.org
SUMMARY:Our Fourth Principle (focus on Truth & Meaning)
DESCRIPTION:Rev. Lee Anne Washington \nIn the second of three services exploring our fourth principle\, we will consider how it affects our Social Justice activism. \nEach section of this series builds on the prior sections. So\, If you were unable to attend last Sunday’s service\, you may want to review it before Sunday. \n\n\nClick here to view the LIVESTREAM on YouTube. \nAfter the event has ended\, you may watch this and other RECORDINGS on the UUCNH YouTube channel.
URL:https://uucnh.org/event/our-fourth-principle-focus-on-truth-meaning/
LOCATION:West Room and Zoom
CATEGORIES:Sunday Service
ATTACH;FMTTYPE=image/jpeg:https://uucnh.org/wp-content/uploads/2025/08/pexels-pixabay-163185-scaled.jpg
END:VEVENT
END:VCALENDAR