BEGIN:VCALENDAR
VERSION:2.0
PRODID:-//Unitarian Univeralist Church of the North Hills - ECPv6.15.17.1//NONSGML v1.0//EN
CALSCALE:GREGORIAN
METHOD:PUBLISH
X-ORIGINAL-URL:https://uucnh.org
X-WR-CALDESC:Events for Unitarian Univeralist Church of the North Hills
REFRESH-INTERVAL;VALUE=DURATION:PT1H
X-Robots-Tag:noindex
X-PUBLISHED-TTL:PT1H
BEGIN:VTIMEZONE
TZID:America/New_York
BEGIN:DAYLIGHT
TZOFFSETFROM:-0500
TZOFFSETTO:-0400
TZNAME:EDT
DTSTART:20240310T070000
END:DAYLIGHT
BEGIN:STANDARD
TZOFFSETFROM:-0400
TZOFFSETTO:-0500
TZNAME:EST
DTSTART:20241103T060000
END:STANDARD
BEGIN:DAYLIGHT
TZOFFSETFROM:-0500
TZOFFSETTO:-0400
TZNAME:EDT
DTSTART:20250309T070000
END:DAYLIGHT
BEGIN:STANDARD
TZOFFSETFROM:-0400
TZOFFSETTO:-0500
TZNAME:EST
DTSTART:20251102T060000
END:STANDARD
BEGIN:DAYLIGHT
TZOFFSETFROM:-0500
TZOFFSETTO:-0400
TZNAME:EDT
DTSTART:20260308T070000
END:DAYLIGHT
BEGIN:STANDARD
TZOFFSETFROM:-0400
TZOFFSETTO:-0500
TZNAME:EST
DTSTART:20261101T060000
END:STANDARD
END:VTIMEZONE
BEGIN:VEVENT
DTSTART;TZID=America/New_York:20250706T103000
DTEND;TZID=America/New_York:20250706T123000
DTSTAMP:20260420T222709
CREATED:20250703T234241Z
LAST-MODIFIED:20250703T234241Z
UID:10017092-1751797800-1751805000@uucnh.org
SUMMARY:Self-Care Sunday
DESCRIPTION:This Self-Care Sunday we will make time to practice mindful movement and experience silent meditation in order to bring rest and retreat to the body and soul. Please wear comfortable clothing and if you have a blanket\, bolster\, yoga blocks or strap\, or another type of posture support\, you may wish to bring this too. \nBy Edith Ruiz \n\n\nClick here to view the LIVESTREAM on YouTube. \nAfter the event has ended\, you may watch this and other RECORDINGS on the UUCNH YouTube channel.
URL:https://uucnh.org/event/self-care-sunday/
LOCATION:West Room and Zoom
CATEGORIES:Sunday Service
ATTACH;FMTTYPE=image/jpeg:https://uucnh.org/wp-content/uploads/2025/07/pexels-mdsnmdsnmdsn-2821823-scaled.jpg
END:VEVENT
BEGIN:VEVENT
DTSTART;TZID=America/New_York:20250713T103000
DTEND;TZID=America/New_York:20250713T123000
DTSTAMP:20260420T222709
CREATED:20250708T234806Z
LAST-MODIFIED:20250708T234806Z
UID:10017093-1752402600-1752409800@uucnh.org
SUMMARY:The Power of Art to Lift and Inspire\, to Heal and to Comfort and to Express Our Very Humanity.
DESCRIPTION:Artist and Executive Director of North Hills Art Center and Lou Bartolomucci\, long-time Member will lead a Sunday Service exploring the power of Art to lift and inspire\, to heal and to comfort\, and to express our very humanity. Please join us for a very special Sunday Service. \n  \n\n\nClick here to view the LIVESTREAM on YouTube. \nAfter the event has ended\, you may watch this and other RECORDINGS on the UUCNH YouTube channel.
URL:https://uucnh.org/event/the-power-of-art-to-lift-and-inspire-to-heal-and-to-comfort-and-to-express-our-very-humanity/
LOCATION:West Room and Zoom
CATEGORIES:Sunday Service
ATTACH;FMTTYPE=image/jpeg:https://uucnh.org/wp-content/uploads/2025/07/pexels-mikhail-nilov-6932061-scaled.jpg
END:VEVENT
BEGIN:VEVENT
DTSTART;TZID=America/New_York:20250720T103000
DTEND;TZID=America/New_York:20250720T123000
DTSTAMP:20260420T222709
CREATED:20250715T193933Z
LAST-MODIFIED:20250715T193933Z
UID:10017095-1753007400-1753014600@uucnh.org
SUMMARY:A Buddhist Shares Her Beliefs
DESCRIPTION:Dr. Qiong Wang\, Chinese medical doctor\, acupuncturist\, and practicing Buddhist\, will tell us about her experiences in Buddhism and answer some questions we’ve asked. \n  \n\n\nClick here to view the LIVESTREAM on YouTube. \nAfter the event has ended\, you may watch this and other RECORDINGS on the UUCNH YouTube channel.
URL:https://uucnh.org/event/a-buddhist-shares-her-beliefs/
LOCATION:West Room and Zoom
CATEGORIES:Sunday Service
ATTACH;FMTTYPE=image/jpeg:https://uucnh.org/wp-content/uploads/2025/07/questions-for-buddhist-teachers.jpg
END:VEVENT
BEGIN:VEVENT
DTSTART;TZID=America/New_York:20250727T103000
DTEND;TZID=America/New_York:20250727T123000
DTSTAMP:20260420T222709
CREATED:20250724T195137Z
LAST-MODIFIED:20250724T195137Z
UID:10017413-1753612200-1753619400@uucnh.org
SUMMARY:Land Acknowledgement: Is That Enough?
DESCRIPTION:Most Sundays\, we read together an acknowledgement that the land we stand on was taken from the local indigenous people. We say the words\, we take a breath\, and we move on. Yet\, it seems to be not enough; it seems too little and too late. Miguel Sague of the Council of Three Rivers American Indian Center will speak to this concern from a Native American perspective. \n  \n\n\nClick here to view the LIVESTREAM on YouTube. \nAfter the event has ended\, you may watch this and other RECORDINGS on the UUCNH YouTube channel.
URL:https://uucnh.org/event/land-acknowledgement-is-that-enough/
LOCATION:West Room and Zoom
CATEGORIES:Sunday Service
ATTACH;FMTTYPE=image/jpeg:https://uucnh.org/wp-content/uploads/2025/07/pexels-robertkso-32441609-scaled.jpg
END:VEVENT
END:VCALENDAR