BEGIN:VCALENDAR
VERSION:2.0
PRODID:-//Unitarian Univeralist Church of the North Hills - ECPv6.15.17.1//NONSGML v1.0//EN
CALSCALE:GREGORIAN
METHOD:PUBLISH
X-ORIGINAL-URL:https://uucnh.org
X-WR-CALDESC:Events for Unitarian Univeralist Church of the North Hills
REFRESH-INTERVAL;VALUE=DURATION:PT1H
X-Robots-Tag:noindex
X-PUBLISHED-TTL:PT1H
BEGIN:VTIMEZONE
TZID:America/New_York
BEGIN:DAYLIGHT
TZOFFSETFROM:-0500
TZOFFSETTO:-0400
TZNAME:EDT
DTSTART:20240310T070000
END:DAYLIGHT
BEGIN:STANDARD
TZOFFSETFROM:-0400
TZOFFSETTO:-0500
TZNAME:EST
DTSTART:20241103T060000
END:STANDARD
BEGIN:DAYLIGHT
TZOFFSETFROM:-0500
TZOFFSETTO:-0400
TZNAME:EDT
DTSTART:20250309T070000
END:DAYLIGHT
BEGIN:STANDARD
TZOFFSETFROM:-0400
TZOFFSETTO:-0500
TZNAME:EST
DTSTART:20251102T060000
END:STANDARD
BEGIN:DAYLIGHT
TZOFFSETFROM:-0500
TZOFFSETTO:-0400
TZNAME:EDT
DTSTART:20260308T070000
END:DAYLIGHT
BEGIN:STANDARD
TZOFFSETFROM:-0400
TZOFFSETTO:-0500
TZNAME:EST
DTSTART:20261101T060000
END:STANDARD
END:VTIMEZONE
BEGIN:VEVENT
DTSTART;TZID=America/New_York:20250504T103000
DTEND;TZID=America/New_York:20250504T123000
DTSTAMP:20260421T174618
CREATED:20250502T142641Z
LAST-MODIFIED:20250502T142641Z
UID:10016297-1746354600-1746361800@uucnh.org
SUMMARY:Invoking the Blossoms and the Flame: Imagining a Solution to Homelessness
DESCRIPTION:May 1st was Beltane\, also known as May Day. It’s a time to joyfully celebrate returning daylight\, blooming flowers\, and the transforming power of fire. In this context\, Rev. Lee Anne will share what she learned from watching Beyond the Bridge: a Solution to Homelessness and provide an update on Pittsburgh’s commitment to providing 500 affordable housing units in Allegheny County in 500 days. \n\nPresented by Rev. Lee Anne Washington \n\nClick here to view the LIVESTREAM on YouTube. \nAfter the event has ended\, you may watch this and other RECORDINGS on the UUCNH YouTube channel.
URL:https://uucnh.org/event/invoking-the-blossoms-and-the-flame-imagining-a-solution-to-homelessness/
LOCATION:West Room and Zoom
CATEGORIES:Sunday Service
ATTACH;FMTTYPE=image/jpeg:https://uucnh.org/wp-content/uploads/2025/05/images-1.jpg
END:VEVENT
BEGIN:VEVENT
DTSTART;TZID=America/New_York:20250511T103000
DTEND;TZID=America/New_York:20250511T123000
DTSTAMP:20260421T174618
CREATED:20250509T143431Z
LAST-MODIFIED:20250514T210050Z
UID:10016494-1746959400-1746966600@uucnh.org
SUMMARY:Imaginary Messengers
DESCRIPTION:Ever wonder whence came an idea that just popped into your head? Ever get stuck on a problem and then out of nowhere the answer\, or at least an answer\, made itself known? Join Rev. Lee Anne as she explores the religious and philosophical concepts of imaginary messengers who inspire us and guide us. \nThis Sunday will celebrate Gavin Connor’s bridging from youth to young adult. \n\nPresented by Rev. Lee Anne Washington \n\nClick here to view the LIVESTREAM on YouTube. \nAfter the event has ended\, you may watch this and other RECORDINGS on the UUCNH YouTube channel.
URL:https://uucnh.org/event/imaginary-messengers/
LOCATION:West Room and Zoom
CATEGORIES:Sunday Service
ATTACH;FMTTYPE=image/png:https://uucnh.org/wp-content/uploads/2025/05/image.png
END:VEVENT
BEGIN:VEVENT
DTSTART;TZID=America/New_York:20250518T103000
DTEND;TZID=America/New_York:20250518T123000
DTSTAMP:20260421T174618
CREATED:20250514T210307Z
LAST-MODIFIED:20250514T210806Z
UID:10016509-1747564200-1747571400@uucnh.org
SUMMARY:More Than Words On a Page
DESCRIPTION:We will examine the meanings of key words in UU theology\, particularly with respect to the UUCNH mission statement. \n\nPresented by Rev. John Ballance \n\nClick here to view the LIVESTREAM on YouTube. \nAfter the event has ended\, you may watch this and other RECORDINGS on the UUCNH YouTube channel.
URL:https://uucnh.org/event/more-than-words-on-a-page/
LOCATION:West Room and Zoom
CATEGORIES:Sunday Service
ATTACH;FMTTYPE=image/jpeg:https://uucnh.org/wp-content/uploads/2025/05/pexels-ann-h-45017-15387083-scaled.jpg
END:VEVENT
BEGIN:VEVENT
DTSTART;TZID=America/New_York:20250525T103000
DTEND;TZID=America/New_York:20250525T123000
DTSTAMP:20260421T174618
CREATED:20250523T205548Z
LAST-MODIFIED:20250523T205548Z
UID:10016511-1748169000-1748176200@uucnh.org
SUMMARY:No Greater Love- The Four Chaplains
DESCRIPTION:Monday is Memorial Day. Join us this Sunday\, as we remember those who have died while serving in the armed forces and find inspiration from the story of Four Army Chaplains. \n\nPresented by Rev. Lee Anne Washington \n\nClick here to view the LIVESTREAM on YouTube. \nAfter the event has ended\, you may watch this and other RECORDINGS on the UUCNH YouTube channel.
URL:https://uucnh.org/event/no-greater-love-the-four-chaplains/
LOCATION:West Room and Zoom
CATEGORIES:Sunday Service
ATTACH;FMTTYPE=image/jpeg:https://uucnh.org/wp-content/uploads/2025/05/Chaplains.jpg
END:VEVENT
END:VCALENDAR