BEGIN:VCALENDAR
VERSION:2.0
PRODID:-//Unitarian Univeralist Church of the North Hills - ECPv6.15.17.1//NONSGML v1.0//EN
CALSCALE:GREGORIAN
METHOD:PUBLISH
X-ORIGINAL-URL:https://uucnh.org
X-WR-CALDESC:Events for Unitarian Univeralist Church of the North Hills
REFRESH-INTERVAL;VALUE=DURATION:PT1H
X-Robots-Tag:noindex
X-PUBLISHED-TTL:PT1H
BEGIN:VTIMEZONE
TZID:America/New_York
BEGIN:DAYLIGHT
TZOFFSETFROM:-0500
TZOFFSETTO:-0400
TZNAME:EDT
DTSTART:20240310T070000
END:DAYLIGHT
BEGIN:STANDARD
TZOFFSETFROM:-0400
TZOFFSETTO:-0500
TZNAME:EST
DTSTART:20241103T060000
END:STANDARD
BEGIN:DAYLIGHT
TZOFFSETFROM:-0500
TZOFFSETTO:-0400
TZNAME:EDT
DTSTART:20250309T070000
END:DAYLIGHT
BEGIN:STANDARD
TZOFFSETFROM:-0400
TZOFFSETTO:-0500
TZNAME:EST
DTSTART:20251102T060000
END:STANDARD
BEGIN:DAYLIGHT
TZOFFSETFROM:-0500
TZOFFSETTO:-0400
TZNAME:EDT
DTSTART:20260308T070000
END:DAYLIGHT
BEGIN:STANDARD
TZOFFSETFROM:-0400
TZOFFSETTO:-0500
TZNAME:EST
DTSTART:20261101T060000
END:STANDARD
END:VTIMEZONE
BEGIN:VEVENT
DTSTART;TZID=America/New_York:20250406T103000
DTEND;TZID=America/New_York:20250406T123000
DTSTAMP:20260421T103546
CREATED:20250403T201213Z
LAST-MODIFIED:20250403T201213Z
UID:10016253-1743935400-1743942600@uucnh.org
SUMMARY:Vitamin G
DESCRIPTION:A well-known medical doctor and social media influencer includes “Vitamin G” in his recommendations for a healthy diet. Join us in expressing our gratitude for the generosity of all those who have answered the call to pledge their financial support to our beloved community and discover how to benefit from Vitamin G. \nPresented by Rev. Lee Anne Washington \n\n\n\n\nClick here to view the LIVESTREAM on YouTube. \nAfter the event has ended\, you may watch this and other RECORDINGS on the UUCNH YouTube channel.
URL:https://uucnh.org/event/vitamin-g/
LOCATION:West Room and Zoom
CATEGORIES:Sunday Service
ATTACH;FMTTYPE=image/png:https://uucnh.org/wp-content/uploads/2025/04/G.png
END:VEVENT
BEGIN:VEVENT
DTSTART;TZID=America/New_York:20250413T103000
DTEND;TZID=America/New_York:20250413T123000
DTSTAMP:20260421T103546
CREATED:20250411T171412Z
LAST-MODIFIED:20250414T173542Z
UID:10016257-1744540200-1744547400@uucnh.org
SUMMARY:Some Things Never Change
DESCRIPTION:Whether you are  from the silent generation\, a boomer\, gen x\,  a millennial\, or gen z\,  some things never change.   Other generations think that there are so many differences between how they grew up and how Gen Z does today.  Our UUCNH youth group wants to show you that the differences are in the details but the many parts in the life of a teenager stay the same no matter what generation you are  from.  \nPresented by the UUCNH Youth Group \n\n\n\n\nClick here to view the LIVESTREAM on YouTube. \nAfter the event has ended\, you may watch this and other RECORDINGS on the UUCNH YouTube channel.
URL:https://uucnh.org/event/some-thing-never-change/
LOCATION:West Room and Zoom
CATEGORIES:Sunday Service
ATTACH;FMTTYPE=image/jpeg:https://uucnh.org/wp-content/uploads/2025/04/GENERATIONS11-x-8.5-in.jpg
END:VEVENT
BEGIN:VEVENT
DTSTART;TZID=America/New_York:20250420T103000
DTEND;TZID=America/New_York:20250420T123000
DTSTAMP:20260421T103546
CREATED:20250417T203513Z
LAST-MODIFIED:20250417T203513Z
UID:10016292-1745145000-1745152200@uucnh.org
SUMMARY:Easter: When Things Are Not As They Seem
DESCRIPTION:Presented by Rev. Lee Anne Washington \n\n\nRampant partisanship in every aspect of our communal lives makes it difficult to determine what’s really going on. Similarly\, the Easter story is rife with misunderstandings\, misidentifications\, and miscommunications. As a religious community\, what should we do when things are not as they appear? Join us as Rev. Lee Anne explores the Easter story with this question in mind and invites us to consider the gifts that come with a new perspective. \nThe Break Forth Ensemble will lead us in song and the children will hunt for Easter eggs during the service. \n\n\nClick here to view the LIVESTREAM on YouTube. \nAfter the event has ended\, you may watch this and other RECORDINGS on the UUCNH YouTube channel.
URL:https://uucnh.org/event/easter-when-things-are-not-as-they-seem/
LOCATION:West Room and Zoom
CATEGORIES:Sunday Service
ATTACH;FMTTYPE=image/jpeg:https://uucnh.org/wp-content/uploads/2025/04/0c16f7d14489cd32c86d036f8b5200a0.jpg
END:VEVENT
BEGIN:VEVENT
DTSTART;TZID=America/New_York:20250427T103000
DTEND;TZID=America/New_York:20250427T123000
DTSTAMP:20260421T103546
CREATED:20250424T154152Z
LAST-MODIFIED:20250424T154152Z
UID:10016294-1745749800-1745757000@uucnh.org
SUMMARY:What's the Big Deal About Methane?
DESCRIPTION:Methane is a powerful greenhouse gas and a major driver of climate change. In fact\, reducing methane emissions can have a much greater impact on slowing global warming than reducing carbon dioxide. \nWhat makes methane especially urgent is that it’s all around us—from agriculture and landfills to energy production—making this issue deeply personal and impossible to ignore. \nThe Green Sanctuary team is sharing the facts about methane and practical action ideas you’re sure to use. \n\n\nClick here to view the LIVESTREAM on YouTube. \nAfter the event has ended\, you may watch this and other RECORDINGS on the UUCNH YouTube channel.
URL:https://uucnh.org/event/whats-the-big-deal-about-methane/
LOCATION:West Room and Zoom
CATEGORIES:Sunday Service
ATTACH;FMTTYPE=image/jpeg:https://uucnh.org/wp-content/uploads/2025/04/pexels-mrudang-dalal-2151580204-31746605-scaled.jpg
END:VEVENT
END:VCALENDAR