BEGIN:VCALENDAR
VERSION:2.0
PRODID:-//Unitarian Univeralist Church of the North Hills - ECPv6.15.17.1//NONSGML v1.0//EN
CALSCALE:GREGORIAN
METHOD:PUBLISH
X-WR-CALNAME:Unitarian Univeralist Church of the North Hills
X-ORIGINAL-URL:https://uucnh.org
X-WR-CALDESC:Events for Unitarian Univeralist Church of the North Hills
REFRESH-INTERVAL;VALUE=DURATION:PT1H
X-Robots-Tag:noindex
X-PUBLISHED-TTL:PT1H
BEGIN:VTIMEZONE
TZID:America/New_York
BEGIN:DAYLIGHT
TZOFFSETFROM:-0500
TZOFFSETTO:-0400
TZNAME:EDT
DTSTART:20290311T070000
END:DAYLIGHT
BEGIN:STANDARD
TZOFFSETFROM:-0400
TZOFFSETTO:-0500
TZNAME:EST
DTSTART:20291104T060000
END:STANDARD
BEGIN:DAYLIGHT
TZOFFSETFROM:-0500
TZOFFSETTO:-0400
TZNAME:EDT
DTSTART:20300310T070000
END:DAYLIGHT
BEGIN:STANDARD
TZOFFSETFROM:-0400
TZOFFSETTO:-0500
TZNAME:EST
DTSTART:20301103T060000
END:STANDARD
BEGIN:DAYLIGHT
TZOFFSETFROM:-0500
TZOFFSETTO:-0400
TZNAME:EDT
DTSTART:20310309T070000
END:DAYLIGHT
BEGIN:STANDARD
TZOFFSETFROM:-0400
TZOFFSETTO:-0500
TZNAME:EST
DTSTART:20311102T060000
END:STANDARD
END:VTIMEZONE
BEGIN:VEVENT
DTSTART;TZID=America/New_York:20300422T190000
DTEND;TZID=America/New_York:20300422T200000
DTSTAMP:20260421T064740
CREATED:20250207T163705Z
LAST-MODIFIED:20250923T162927Z
UID:10017719-1903114800-1903118400@uucnh.org
SUMMARY:E - Ukulele Group
DESCRIPTION:Bring your ukulele\, music and a table stand if you have one. If not come anyway. We are good at sharing and often have an extra uke or two. If you are not sure that you are interested in joining the group\, come and see what it’s like and then decide. Beginners welcome. It’s a lot of fun. Looking forward to seeing your smiling faces. There’s something about ukulele that just makes me smile!
URL:https://uucnh.org/event/e-ukulele-group/2030-04-22/
LOCATION:East Room
CATEGORIES:Ukulele Group
END:VEVENT
BEGIN:VEVENT
DTSTART;TZID=America/New_York:20300513T190000
DTEND;TZID=America/New_York:20300513T200000
DTSTAMP:20260421T064740
CREATED:20250207T163705Z
LAST-MODIFIED:20250923T162927Z
UID:10017720-1904929200-1904932800@uucnh.org
SUMMARY:E - Ukulele Group
DESCRIPTION:Bring your ukulele\, music and a table stand if you have one. If not come anyway. We are good at sharing and often have an extra uke or two. If you are not sure that you are interested in joining the group\, come and see what it’s like and then decide. Beginners welcome. It’s a lot of fun. Looking forward to seeing your smiling faces. There’s something about ukulele that just makes me smile!
URL:https://uucnh.org/event/e-ukulele-group/2030-05-13/
LOCATION:East Room
CATEGORIES:Ukulele Group
END:VEVENT
BEGIN:VEVENT
DTSTART;TZID=America/New_York:20300527T190000
DTEND;TZID=America/New_York:20300527T200000
DTSTAMP:20260421T064740
CREATED:20250207T163705Z
LAST-MODIFIED:20250923T162927Z
UID:10017721-1906138800-1906142400@uucnh.org
SUMMARY:E - Ukulele Group
DESCRIPTION:Bring your ukulele\, music and a table stand if you have one. If not come anyway. We are good at sharing and often have an extra uke or two. If you are not sure that you are interested in joining the group\, come and see what it’s like and then decide. Beginners welcome. It’s a lot of fun. Looking forward to seeing your smiling faces. There’s something about ukulele that just makes me smile!
URL:https://uucnh.org/event/e-ukulele-group/2030-05-27/
LOCATION:East Room
CATEGORIES:Ukulele Group
END:VEVENT
BEGIN:VEVENT
DTSTART;TZID=America/New_York:20300610T190000
DTEND;TZID=America/New_York:20300610T200000
DTSTAMP:20260421T064740
CREATED:20250207T163705Z
LAST-MODIFIED:20250923T162927Z
UID:10017722-1907348400-1907352000@uucnh.org
SUMMARY:E - Ukulele Group
DESCRIPTION:Bring your ukulele\, music and a table stand if you have one. If not come anyway. We are good at sharing and often have an extra uke or two. If you are not sure that you are interested in joining the group\, come and see what it’s like and then decide. Beginners welcome. It’s a lot of fun. Looking forward to seeing your smiling faces. There’s something about ukulele that just makes me smile!
URL:https://uucnh.org/event/e-ukulele-group/2030-06-10/
LOCATION:East Room
CATEGORIES:Ukulele Group
END:VEVENT
BEGIN:VEVENT
DTSTART;TZID=America/New_York:20300624T190000
DTEND;TZID=America/New_York:20300624T200000
DTSTAMP:20260421T064740
CREATED:20250207T163705Z
LAST-MODIFIED:20250923T162927Z
UID:10017723-1908558000-1908561600@uucnh.org
SUMMARY:E - Ukulele Group
DESCRIPTION:Bring your ukulele\, music and a table stand if you have one. If not come anyway. We are good at sharing and often have an extra uke or two. If you are not sure that you are interested in joining the group\, come and see what it’s like and then decide. Beginners welcome. It’s a lot of fun. Looking forward to seeing your smiling faces. There’s something about ukulele that just makes me smile!
URL:https://uucnh.org/event/e-ukulele-group/2030-06-24/
LOCATION:East Room
CATEGORIES:Ukulele Group
END:VEVENT
BEGIN:VEVENT
DTSTART;TZID=America/New_York:20300708T190000
DTEND;TZID=America/New_York:20300708T200000
DTSTAMP:20260421T064740
CREATED:20250207T163705Z
LAST-MODIFIED:20250923T162927Z
UID:10017724-1909767600-1909771200@uucnh.org
SUMMARY:E - Ukulele Group
DESCRIPTION:Bring your ukulele\, music and a table stand if you have one. If not come anyway. We are good at sharing and often have an extra uke or two. If you are not sure that you are interested in joining the group\, come and see what it’s like and then decide. Beginners welcome. It’s a lot of fun. Looking forward to seeing your smiling faces. There’s something about ukulele that just makes me smile!
URL:https://uucnh.org/event/e-ukulele-group/2030-07-08/
LOCATION:East Room
CATEGORIES:Ukulele Group
END:VEVENT
BEGIN:VEVENT
DTSTART;TZID=America/New_York:20300722T190000
DTEND;TZID=America/New_York:20300722T200000
DTSTAMP:20260421T064740
CREATED:20250207T163705Z
LAST-MODIFIED:20250923T162927Z
UID:10017725-1910977200-1910980800@uucnh.org
SUMMARY:E - Ukulele Group
DESCRIPTION:Bring your ukulele\, music and a table stand if you have one. If not come anyway. We are good at sharing and often have an extra uke or two. If you are not sure that you are interested in joining the group\, come and see what it’s like and then decide. Beginners welcome. It’s a lot of fun. Looking forward to seeing your smiling faces. There’s something about ukulele that just makes me smile!
URL:https://uucnh.org/event/e-ukulele-group/2030-07-22/
LOCATION:East Room
CATEGORIES:Ukulele Group
END:VEVENT
BEGIN:VEVENT
DTSTART;TZID=America/New_York:20300812T190000
DTEND;TZID=America/New_York:20300812T200000
DTSTAMP:20260421T064740
CREATED:20250207T163705Z
LAST-MODIFIED:20250923T162927Z
UID:10017726-1912791600-1912795200@uucnh.org
SUMMARY:E - Ukulele Group
DESCRIPTION:Bring your ukulele\, music and a table stand if you have one. If not come anyway. We are good at sharing and often have an extra uke or two. If you are not sure that you are interested in joining the group\, come and see what it’s like and then decide. Beginners welcome. It’s a lot of fun. Looking forward to seeing your smiling faces. There’s something about ukulele that just makes me smile!
URL:https://uucnh.org/event/e-ukulele-group/2030-08-12/
LOCATION:East Room
CATEGORIES:Ukulele Group
END:VEVENT
BEGIN:VEVENT
DTSTART;TZID=America/New_York:20300826T190000
DTEND;TZID=America/New_York:20300826T200000
DTSTAMP:20260421T064740
CREATED:20250207T163705Z
LAST-MODIFIED:20250923T162927Z
UID:10017727-1914001200-1914004800@uucnh.org
SUMMARY:E - Ukulele Group
DESCRIPTION:Bring your ukulele\, music and a table stand if you have one. If not come anyway. We are good at sharing and often have an extra uke or two. If you are not sure that you are interested in joining the group\, come and see what it’s like and then decide. Beginners welcome. It’s a lot of fun. Looking forward to seeing your smiling faces. There’s something about ukulele that just makes me smile!
URL:https://uucnh.org/event/e-ukulele-group/2030-08-26/
LOCATION:East Room
CATEGORIES:Ukulele Group
END:VEVENT
BEGIN:VEVENT
DTSTART;TZID=America/New_York:20300909T190000
DTEND;TZID=America/New_York:20300909T200000
DTSTAMP:20260421T064740
CREATED:20250207T163705Z
LAST-MODIFIED:20250923T162927Z
UID:10017728-1915210800-1915214400@uucnh.org
SUMMARY:E - Ukulele Group
DESCRIPTION:Bring your ukulele\, music and a table stand if you have one. If not come anyway. We are good at sharing and often have an extra uke or two. If you are not sure that you are interested in joining the group\, come and see what it’s like and then decide. Beginners welcome. It’s a lot of fun. Looking forward to seeing your smiling faces. There’s something about ukulele that just makes me smile!
URL:https://uucnh.org/event/e-ukulele-group/2030-09-09/
LOCATION:East Room
CATEGORIES:Ukulele Group
END:VEVENT
BEGIN:VEVENT
DTSTART;TZID=America/New_York:20300923T190000
DTEND;TZID=America/New_York:20300923T200000
DTSTAMP:20260421T064740
CREATED:20250207T163705Z
LAST-MODIFIED:20250923T162927Z
UID:10017729-1916420400-1916424000@uucnh.org
SUMMARY:E - Ukulele Group
DESCRIPTION:Bring your ukulele\, music and a table stand if you have one. If not come anyway. We are good at sharing and often have an extra uke or two. If you are not sure that you are interested in joining the group\, come and see what it’s like and then decide. Beginners welcome. It’s a lot of fun. Looking forward to seeing your smiling faces. There’s something about ukulele that just makes me smile!
URL:https://uucnh.org/event/e-ukulele-group/2030-09-23/
LOCATION:East Room
CATEGORIES:Ukulele Group
END:VEVENT
END:VCALENDAR