BEGIN:VCALENDAR
VERSION:2.0
PRODID:-//Unitarian Univeralist Church of the North Hills - ECPv6.15.17.1//NONSGML v1.0//EN
CALSCALE:GREGORIAN
METHOD:PUBLISH
X-WR-CALNAME:Unitarian Univeralist Church of the North Hills
X-ORIGINAL-URL:https://uucnh.org
X-WR-CALDESC:Events for Unitarian Univeralist Church of the North Hills
REFRESH-INTERVAL;VALUE=DURATION:PT1H
X-Robots-Tag:noindex
X-PUBLISHED-TTL:PT1H
BEGIN:VTIMEZONE
TZID:America/New_York
BEGIN:DAYLIGHT
TZOFFSETFROM:-0500
TZOFFSETTO:-0400
TZNAME:EDT
DTSTART:20240310T070000
END:DAYLIGHT
BEGIN:STANDARD
TZOFFSETFROM:-0400
TZOFFSETTO:-0500
TZNAME:EST
DTSTART:20241103T060000
END:STANDARD
BEGIN:DAYLIGHT
TZOFFSETFROM:-0500
TZOFFSETTO:-0400
TZNAME:EDT
DTSTART:20250309T070000
END:DAYLIGHT
BEGIN:STANDARD
TZOFFSETFROM:-0400
TZOFFSETTO:-0500
TZNAME:EST
DTSTART:20251102T060000
END:STANDARD
BEGIN:DAYLIGHT
TZOFFSETFROM:-0500
TZOFFSETTO:-0400
TZNAME:EDT
DTSTART:20260308T070000
END:DAYLIGHT
BEGIN:STANDARD
TZOFFSETFROM:-0400
TZOFFSETTO:-0500
TZNAME:EST
DTSTART:20261101T060000
END:STANDARD
END:VTIMEZONE
BEGIN:VEVENT
DTSTART;TZID=America/New_York:20250316T120000
DTEND;TZID=America/New_York:20250316T131500
DTSTAMP:20260425T194930
CREATED:20250207T180007Z
LAST-MODIFIED:20250902T171236Z
UID:10015394-1742126400-1742130900@uucnh.org
SUMMARY:WD & Z-  Jesus Discussion Group
DESCRIPTION:Jesus Discussion Group – Tony Palermo\nJoin Zoom Meeting\nMeeting ID: 830 4405 2949\nPasscode: 932743
URL:https://uucnh.org/event/wd-z-jesus-discussion-group/2025-03-16/
LOCATION:Worth and Dignity Room
CATEGORIES:Jesus Discussion Group
END:VEVENT
BEGIN:VEVENT
DTSTART;TZID=America/New_York:20250311T190000
DTEND;TZID=America/New_York:20250311T210000
DTSTAMP:20260425T194930
CREATED:20250228T151934Z
LAST-MODIFIED:20250228T151958Z
UID:10016141-1741719600-1741726800@uucnh.org
SUMMARY:T- Tuesday Night Covenant Group
DESCRIPTION:
URL:https://uucnh.org/event/t-tuesday-night-covenant-group-3/2025-03-11/
LOCATION:Truth & Meaning Room (Youth Group Room)
CATEGORIES:covenant groups
END:VEVENT
BEGIN:VEVENT
DTSTART;TZID=America/New_York:20250309T091500
DTEND;TZID=America/New_York:20250309T101500
DTSTAMP:20260425T194930
CREATED:20250207T173849Z
LAST-MODIFIED:20250207T173849Z
UID:10015030-1741511700-1741515300@uucnh.org
SUMMARY:T- Quest for Belief
DESCRIPTION:Contact:  Edie Swihart \nThis was formerly called UU Christian Perspectives
URL:https://uucnh.org/event/t-quest-for-belief/2025-03-09/
LOCATION:Truth & Meaning Room (Youth Group Room)
CATEGORIES:Quest for belief
END:VEVENT
BEGIN:VEVENT
DTSTART;TZID=America/New_York:20250302T120000
DTEND;TZID=America/New_York:20250302T131500
DTSTAMP:20260425T194930
CREATED:20250207T165729Z
LAST-MODIFIED:20250207T165729Z
UID:10014517-1740916800-1740921300@uucnh.org
SUMMARY:WD & Z - PSI ( Philosophical\, Spiritual Insights)
DESCRIPTION:Join Zoom Meeting \nMeeting ID: 830 4405 2949\nPasscode: 932743
URL:https://uucnh.org/event/wd-z-psi-philosophical-spiritual-insights/2025-03-02/
LOCATION:Worth and Dignity Room
CATEGORIES:PSI
END:VEVENT
BEGIN:VEVENT
DTSTART;TZID=America/New_York:20250225T190000
DTEND;TZID=America/New_York:20250225T210000
DTSTAMP:20260425T194930
CREATED:20250210T153240Z
LAST-MODIFIED:20250210T153240Z
UID:10016005-1740510000-1740517200@uucnh.org
SUMMARY:T -Tuesday Night covenant group
DESCRIPTION:
URL:https://uucnh.org/event/t-tuesday-night-covenant-group-2/
LOCATION:Youth Room
CATEGORIES:covenant groups
END:VEVENT
BEGIN:VEVENT
DTSTART;TZID=America/New_York:20250216T120000
DTEND;TZID=America/New_York:20250216T131500
DTSTAMP:20260425T194930
CREATED:20250207T180007Z
LAST-MODIFIED:20250902T171236Z
UID:10015393-1739707200-1739711700@uucnh.org
SUMMARY:WD & Z-  Jesus Discussion Group
DESCRIPTION:Jesus Discussion Group – Tony Palermo\nJoin Zoom Meeting\nMeeting ID: 830 4405 2949\nPasscode: 932743
URL:https://uucnh.org/event/wd-z-jesus-discussion-group/2025-02-16/
LOCATION:Worth and Dignity Room
CATEGORIES:Jesus Discussion Group
END:VEVENT
BEGIN:VEVENT
DTSTART;TZID=America/New_York:20250209T091500
DTEND;TZID=America/New_York:20250209T101500
DTSTAMP:20260425T194930
CREATED:20250207T173849Z
LAST-MODIFIED:20250207T173849Z
UID:10015029-1739092500-1739096100@uucnh.org
SUMMARY:T- Quest for Belief
DESCRIPTION:Contact:  Edie Swihart \nThis was formerly called UU Christian Perspectives
URL:https://uucnh.org/event/t-quest-for-belief/2025-02-09/
LOCATION:Truth & Meaning Room (Youth Group Room)
CATEGORIES:Quest for belief
END:VEVENT
END:VCALENDAR