BEGIN:VCALENDAR
VERSION:2.0
PRODID:-//Unitarian Univeralist Church of the North Hills - ECPv6.15.17.1//NONSGML v1.0//EN
CALSCALE:GREGORIAN
METHOD:PUBLISH
X-WR-CALNAME:Unitarian Univeralist Church of the North Hills
X-ORIGINAL-URL:https://uucnh.org
X-WR-CALDESC:Events for Unitarian Univeralist Church of the North Hills
REFRESH-INTERVAL;VALUE=DURATION:PT1H
X-Robots-Tag:noindex
X-PUBLISHED-TTL:PT1H
BEGIN:VTIMEZONE
TZID:America/New_York
BEGIN:DAYLIGHT
TZOFFSETFROM:-0500
TZOFFSETTO:-0400
TZNAME:EDT
DTSTART:20240310T070000
END:DAYLIGHT
BEGIN:STANDARD
TZOFFSETFROM:-0400
TZOFFSETTO:-0500
TZNAME:EST
DTSTART:20241103T060000
END:STANDARD
BEGIN:DAYLIGHT
TZOFFSETFROM:-0500
TZOFFSETTO:-0400
TZNAME:EDT
DTSTART:20250309T070000
END:DAYLIGHT
BEGIN:STANDARD
TZOFFSETFROM:-0400
TZOFFSETTO:-0500
TZNAME:EST
DTSTART:20251102T060000
END:STANDARD
BEGIN:DAYLIGHT
TZOFFSETFROM:-0500
TZOFFSETTO:-0400
TZNAME:EDT
DTSTART:20260308T070000
END:DAYLIGHT
BEGIN:STANDARD
TZOFFSETFROM:-0400
TZOFFSETTO:-0500
TZNAME:EST
DTSTART:20261101T060000
END:STANDARD
END:VTIMEZONE
BEGIN:VEVENT
DTSTART;TZID=America/New_York:20250805T190000
DTEND;TZID=America/New_York:20250805T200000
DTSTAMP:20260421T123627
CREATED:20250207T161038Z
LAST-MODIFIED:20250513T182636Z
UID:10013637-1754420400-1754424000@uucnh.org
SUMMARY:Z- Zoom with UUCNH Friends
DESCRIPTION:This drop-in connection will be held every Tuesday from 3:30 pm – 4:30 pm and will be led by Michael Horwitz. \nContact: michaelhorwitz@uucnh.org for Zoom details
URL:https://uucnh.org/event/z-zoom-with-uucnh-friends/2025-08-05/
LOCATION:Zoom
CATEGORIES:Community
ATTACH;FMTTYPE=image/jpeg:https://uucnh.org/wp-content/uploads/2024/05/Writing-workshop2-scaled.jpg
END:VEVENT
BEGIN:VEVENT
DTSTART;TZID=America/New_York:20250729T190000
DTEND;TZID=America/New_York:20250729T200000
DTSTAMP:20260421T123627
CREATED:20250207T161038Z
LAST-MODIFIED:20250513T182636Z
UID:10013636-1753815600-1753819200@uucnh.org
SUMMARY:Z- Zoom with UUCNH Friends
DESCRIPTION:This drop-in connection will be held every Tuesday from 3:30 pm – 4:30 pm and will be led by Michael Horwitz. \nContact: michaelhorwitz@uucnh.org for Zoom details
URL:https://uucnh.org/event/z-zoom-with-uucnh-friends/2025-07-29/
LOCATION:Zoom
CATEGORIES:Community
ATTACH;FMTTYPE=image/jpeg:https://uucnh.org/wp-content/uploads/2024/05/Writing-workshop2-scaled.jpg
END:VEVENT
BEGIN:VEVENT
DTSTART;TZID=America/New_York:20250722T190000
DTEND;TZID=America/New_York:20250722T200000
DTSTAMP:20260421T123627
CREATED:20250207T161038Z
LAST-MODIFIED:20250513T182636Z
UID:10013635-1753210800-1753214400@uucnh.org
SUMMARY:Z- Zoom with UUCNH Friends
DESCRIPTION:This drop-in connection will be held every Tuesday from 3:30 pm – 4:30 pm and will be led by Michael Horwitz. \nContact: michaelhorwitz@uucnh.org for Zoom details
URL:https://uucnh.org/event/z-zoom-with-uucnh-friends/2025-07-22/
LOCATION:Zoom
CATEGORIES:Community
ATTACH;FMTTYPE=image/jpeg:https://uucnh.org/wp-content/uploads/2024/05/Writing-workshop2-scaled.jpg
END:VEVENT
BEGIN:VEVENT
DTSTART;TZID=America/New_York:20250715T190000
DTEND;TZID=America/New_York:20250715T200000
DTSTAMP:20260421T123627
CREATED:20250207T161038Z
LAST-MODIFIED:20250513T182636Z
UID:10013634-1752606000-1752609600@uucnh.org
SUMMARY:Z- Zoom with UUCNH Friends
DESCRIPTION:This drop-in connection will be held every Tuesday from 3:30 pm – 4:30 pm and will be led by Michael Horwitz. \nContact: michaelhorwitz@uucnh.org for Zoom details
URL:https://uucnh.org/event/z-zoom-with-uucnh-friends/2025-07-15/
LOCATION:Zoom
CATEGORIES:Community
ATTACH;FMTTYPE=image/jpeg:https://uucnh.org/wp-content/uploads/2024/05/Writing-workshop2-scaled.jpg
END:VEVENT
BEGIN:VEVENT
DTSTART;TZID=America/New_York:20250708T190000
DTEND;TZID=America/New_York:20250708T200000
DTSTAMP:20260421T123627
CREATED:20250207T161038Z
LAST-MODIFIED:20250513T182636Z
UID:10013633-1752001200-1752004800@uucnh.org
SUMMARY:Z- Zoom with UUCNH Friends
DESCRIPTION:This drop-in connection will be held every Tuesday from 3:30 pm – 4:30 pm and will be led by Michael Horwitz. \nContact: michaelhorwitz@uucnh.org for Zoom details
URL:https://uucnh.org/event/z-zoom-with-uucnh-friends/2025-07-08/
LOCATION:Zoom
CATEGORIES:Community
ATTACH;FMTTYPE=image/jpeg:https://uucnh.org/wp-content/uploads/2024/05/Writing-workshop2-scaled.jpg
END:VEVENT
BEGIN:VEVENT
DTSTART;TZID=America/New_York:20250701T190000
DTEND;TZID=America/New_York:20250701T200000
DTSTAMP:20260421T123627
CREATED:20250207T161038Z
LAST-MODIFIED:20250513T182636Z
UID:10013632-1751396400-1751400000@uucnh.org
SUMMARY:Z- Zoom with UUCNH Friends
DESCRIPTION:This drop-in connection will be held every Tuesday from 3:30 pm – 4:30 pm and will be led by Michael Horwitz. \nContact: michaelhorwitz@uucnh.org for Zoom details
URL:https://uucnh.org/event/z-zoom-with-uucnh-friends/2025-07-01/
LOCATION:Zoom
CATEGORIES:Community
ATTACH;FMTTYPE=image/jpeg:https://uucnh.org/wp-content/uploads/2024/05/Writing-workshop2-scaled.jpg
END:VEVENT
BEGIN:VEVENT
DTSTART;TZID=America/New_York:20250624T190000
DTEND;TZID=America/New_York:20250624T200000
DTSTAMP:20260421T123627
CREATED:20250207T161038Z
LAST-MODIFIED:20250513T182636Z
UID:10013631-1750791600-1750795200@uucnh.org
SUMMARY:Z- Zoom with UUCNH Friends
DESCRIPTION:This drop-in connection will be held every Tuesday from 3:30 pm – 4:30 pm and will be led by Michael Horwitz. \nContact: michaelhorwitz@uucnh.org for Zoom details
URL:https://uucnh.org/event/z-zoom-with-uucnh-friends/2025-06-24/
LOCATION:Zoom
CATEGORIES:Community
ATTACH;FMTTYPE=image/jpeg:https://uucnh.org/wp-content/uploads/2024/05/Writing-workshop2-scaled.jpg
END:VEVENT
BEGIN:VEVENT
DTSTART;TZID=America/New_York:20250617T190000
DTEND;TZID=America/New_York:20250617T200000
DTSTAMP:20260421T123627
CREATED:20250207T161038Z
LAST-MODIFIED:20250513T182636Z
UID:10013630-1750186800-1750190400@uucnh.org
SUMMARY:Z- Zoom with UUCNH Friends
DESCRIPTION:This drop-in connection will be held every Tuesday from 3:30 pm – 4:30 pm and will be led by Michael Horwitz. \nContact: michaelhorwitz@uucnh.org for Zoom details
URL:https://uucnh.org/event/z-zoom-with-uucnh-friends/2025-06-17/
LOCATION:Zoom
CATEGORIES:Community
ATTACH;FMTTYPE=image/jpeg:https://uucnh.org/wp-content/uploads/2024/05/Writing-workshop2-scaled.jpg
END:VEVENT
BEGIN:VEVENT
DTSTART;TZID=America/New_York:20250610T190000
DTEND;TZID=America/New_York:20250610T200000
DTSTAMP:20260421T123627
CREATED:20250207T161038Z
LAST-MODIFIED:20250513T182636Z
UID:10013629-1749582000-1749585600@uucnh.org
SUMMARY:Z- Zoom with UUCNH Friends
DESCRIPTION:This drop-in connection will be held every Tuesday from 3:30 pm – 4:30 pm and will be led by Michael Horwitz. \nContact: michaelhorwitz@uucnh.org for Zoom details
URL:https://uucnh.org/event/z-zoom-with-uucnh-friends/2025-06-10/
LOCATION:Zoom
CATEGORIES:Community
ATTACH;FMTTYPE=image/jpeg:https://uucnh.org/wp-content/uploads/2024/05/Writing-workshop2-scaled.jpg
END:VEVENT
BEGIN:VEVENT
DTSTART;TZID=America/New_York:20250603T190000
DTEND;TZID=America/New_York:20250603T200000
DTSTAMP:20260421T123627
CREATED:20250207T161038Z
LAST-MODIFIED:20250513T182636Z
UID:10013628-1748977200-1748980800@uucnh.org
SUMMARY:Z- Zoom with UUCNH Friends
DESCRIPTION:This drop-in connection will be held every Tuesday from 3:30 pm – 4:30 pm and will be led by Michael Horwitz. \nContact: michaelhorwitz@uucnh.org for Zoom details
URL:https://uucnh.org/event/z-zoom-with-uucnh-friends/2025-06-03/
LOCATION:Zoom
CATEGORIES:Community
ATTACH;FMTTYPE=image/jpeg:https://uucnh.org/wp-content/uploads/2024/05/Writing-workshop2-scaled.jpg
END:VEVENT
BEGIN:VEVENT
DTSTART;TZID=America/New_York:20250527T190000
DTEND;TZID=America/New_York:20250527T200000
DTSTAMP:20260421T123627
CREATED:20250207T161038Z
LAST-MODIFIED:20250513T182636Z
UID:10013627-1748372400-1748376000@uucnh.org
SUMMARY:Z- Zoom with UUCNH Friends
DESCRIPTION:This drop-in connection will be held every Tuesday from 3:30 pm – 4:30 pm and will be led by Michael Horwitz. \nContact: michaelhorwitz@uucnh.org for Zoom details
URL:https://uucnh.org/event/z-zoom-with-uucnh-friends/2025-05-27/
LOCATION:Zoom
CATEGORIES:Community
ATTACH;FMTTYPE=image/jpeg:https://uucnh.org/wp-content/uploads/2024/05/Writing-workshop2-scaled.jpg
END:VEVENT
BEGIN:VEVENT
DTSTART;TZID=America/New_York:20250520T190000
DTEND;TZID=America/New_York:20250520T200000
DTSTAMP:20260421T123627
CREATED:20250207T161038Z
LAST-MODIFIED:20250513T182636Z
UID:10013626-1747767600-1747771200@uucnh.org
SUMMARY:Z- Zoom with UUCNH Friends
DESCRIPTION:This drop-in connection will be held every Tuesday from 3:30 pm – 4:30 pm and will be led by Michael Horwitz. \nContact: michaelhorwitz@uucnh.org for Zoom details
URL:https://uucnh.org/event/z-zoom-with-uucnh-friends/2025-05-20/
LOCATION:Zoom
CATEGORIES:Community
ATTACH;FMTTYPE=image/jpeg:https://uucnh.org/wp-content/uploads/2024/05/Writing-workshop2-scaled.jpg
END:VEVENT
BEGIN:VEVENT
DTSTART;TZID=America/New_York:20250520T063000
DTEND;TZID=America/New_York:20250520T213000
DTSTAMP:20260421T123627
CREATED:20250207T172824Z
LAST-MODIFIED:20250318T134234Z
UID:10014647-1747722600-1747776600@uucnh.org
SUMMARY:ELECTION DAY - CHURCH CLOSED - POLL OPEN
DESCRIPTION:UUCNH will be a polling place this day.  As such NO ONE may be in the building this day unless an approved participate with election activities.
URL:https://uucnh.org/event/election-day-church-closed-poll-open/
LOCATION:Whole Church
CATEGORIES:Community
END:VEVENT
BEGIN:VEVENT
DTSTART;TZID=America/New_York:20250516T140000
DTEND;TZID=America/New_York:20250516T200000
DTSTAMP:20260421T123627
CREATED:20250207T195523Z
LAST-MODIFIED:20250207T195523Z
UID:10015965-1747404000-1747425600@uucnh.org
SUMMARY:F\, W&D\, K & W -  J & M Wedding
DESCRIPTION:
URL:https://uucnh.org/event/f-wd-k-w-j-m-wedding/
CATEGORIES:Community
END:VEVENT
BEGIN:VEVENT
DTSTART;TZID=America/New_York:20250515T150000
DTEND;TZID=America/New_York:20250515T220000
DTSTAMP:20260421T123627
CREATED:20250207T194921Z
LAST-MODIFIED:20250207T195347Z
UID:10015964-1747321200-1747346400@uucnh.org
SUMMARY:F\, W&D \, K & W -  J & M Wedding Set Up & Rehearsal
DESCRIPTION:
URL:https://uucnh.org/event/f-g-k-w-j-m-wedding-set-up-rehearsal/
CATEGORIES:Community
END:VEVENT
BEGIN:VEVENT
DTSTART;TZID=America/New_York:20250513T190000
DTEND;TZID=America/New_York:20250513T200000
DTSTAMP:20260421T123627
CREATED:20250207T161038Z
LAST-MODIFIED:20250513T182636Z
UID:10013625-1747162800-1747166400@uucnh.org
SUMMARY:Z- Zoom with UUCNH Friends
DESCRIPTION:This drop-in connection will be held every Tuesday from 3:30 pm – 4:30 pm and will be led by Michael Horwitz. \nContact: michaelhorwitz@uucnh.org for Zoom details
URL:https://uucnh.org/event/z-zoom-with-uucnh-friends/2025-05-13/
LOCATION:Zoom
CATEGORIES:Community
ATTACH;FMTTYPE=image/jpeg:https://uucnh.org/wp-content/uploads/2024/05/Writing-workshop2-scaled.jpg
END:VEVENT
BEGIN:VEVENT
DTSTART;TZID=America/New_York:20250506T190000
DTEND;TZID=America/New_York:20250506T200000
DTSTAMP:20260421T123627
CREATED:20250207T161038Z
LAST-MODIFIED:20250513T182636Z
UID:10013624-1746558000-1746561600@uucnh.org
SUMMARY:Z- Zoom with UUCNH Friends
DESCRIPTION:This drop-in connection will be held every Tuesday from 3:30 pm – 4:30 pm and will be led by Michael Horwitz. \nContact: michaelhorwitz@uucnh.org for Zoom details
URL:https://uucnh.org/event/z-zoom-with-uucnh-friends/2025-05-06/
LOCATION:Zoom
CATEGORIES:Community
ATTACH;FMTTYPE=image/jpeg:https://uucnh.org/wp-content/uploads/2024/05/Writing-workshop2-scaled.jpg
END:VEVENT
BEGIN:VEVENT
DTSTART;TZID=America/New_York:20250429T190000
DTEND;TZID=America/New_York:20250429T200000
DTSTAMP:20260421T123627
CREATED:20250207T161038Z
LAST-MODIFIED:20250513T182636Z
UID:10013623-1745953200-1745956800@uucnh.org
SUMMARY:Z- Zoom with UUCNH Friends
DESCRIPTION:This drop-in connection will be held every Tuesday from 3:30 pm – 4:30 pm and will be led by Michael Horwitz. \nContact: michaelhorwitz@uucnh.org for Zoom details
URL:https://uucnh.org/event/z-zoom-with-uucnh-friends/2025-04-29/
LOCATION:Zoom
CATEGORIES:Community
ATTACH;FMTTYPE=image/jpeg:https://uucnh.org/wp-content/uploads/2024/05/Writing-workshop2-scaled.jpg
END:VEVENT
BEGIN:VEVENT
DTSTART;TZID=America/New_York:20250422T190000
DTEND;TZID=America/New_York:20250422T200000
DTSTAMP:20260421T123627
CREATED:20250207T161038Z
LAST-MODIFIED:20250513T182636Z
UID:10013622-1745348400-1745352000@uucnh.org
SUMMARY:Z- Zoom with UUCNH Friends
DESCRIPTION:This drop-in connection will be held every Tuesday from 3:30 pm – 4:30 pm and will be led by Michael Horwitz. \nContact: michaelhorwitz@uucnh.org for Zoom details
URL:https://uucnh.org/event/z-zoom-with-uucnh-friends/2025-04-22/
LOCATION:Zoom
CATEGORIES:Community
ATTACH;FMTTYPE=image/jpeg:https://uucnh.org/wp-content/uploads/2024/05/Writing-workshop2-scaled.jpg
END:VEVENT
BEGIN:VEVENT
DTSTART;TZID=America/New_York:20250415T190000
DTEND;TZID=America/New_York:20250415T200000
DTSTAMP:20260421T123627
CREATED:20250207T161038Z
LAST-MODIFIED:20250513T182636Z
UID:10013621-1744743600-1744747200@uucnh.org
SUMMARY:Z- Zoom with UUCNH Friends
DESCRIPTION:This drop-in connection will be held every Tuesday from 3:30 pm – 4:30 pm and will be led by Michael Horwitz. \nContact: michaelhorwitz@uucnh.org for Zoom details
URL:https://uucnh.org/event/z-zoom-with-uucnh-friends/2025-04-15/
LOCATION:Zoom
CATEGORIES:Community
ATTACH;FMTTYPE=image/jpeg:https://uucnh.org/wp-content/uploads/2024/05/Writing-workshop2-scaled.jpg
END:VEVENT
BEGIN:VEVENT
DTSTART;TZID=America/New_York:20250408T190000
DTEND;TZID=America/New_York:20250408T200000
DTSTAMP:20260421T123627
CREATED:20250207T161038Z
LAST-MODIFIED:20250513T182636Z
UID:10013620-1744138800-1744142400@uucnh.org
SUMMARY:Z- Zoom with UUCNH Friends
DESCRIPTION:This drop-in connection will be held every Tuesday from 3:30 pm – 4:30 pm and will be led by Michael Horwitz. \nContact: michaelhorwitz@uucnh.org for Zoom details
URL:https://uucnh.org/event/z-zoom-with-uucnh-friends/2025-04-08/
LOCATION:Zoom
CATEGORIES:Community
ATTACH;FMTTYPE=image/jpeg:https://uucnh.org/wp-content/uploads/2024/05/Writing-workshop2-scaled.jpg
END:VEVENT
BEGIN:VEVENT
DTSTART;TZID=America/New_York:20250401T190000
DTEND;TZID=America/New_York:20250401T200000
DTSTAMP:20260421T123627
CREATED:20250207T161038Z
LAST-MODIFIED:20250513T182636Z
UID:10013619-1743534000-1743537600@uucnh.org
SUMMARY:Z- Zoom with UUCNH Friends
DESCRIPTION:This drop-in connection will be held every Tuesday from 3:30 pm – 4:30 pm and will be led by Michael Horwitz. \nContact: michaelhorwitz@uucnh.org for Zoom details
URL:https://uucnh.org/event/z-zoom-with-uucnh-friends/2025-04-01/
LOCATION:Zoom
CATEGORIES:Community
ATTACH;FMTTYPE=image/jpeg:https://uucnh.org/wp-content/uploads/2024/05/Writing-workshop2-scaled.jpg
END:VEVENT
BEGIN:VEVENT
DTSTART;TZID=America/New_York:20250325T190000
DTEND;TZID=America/New_York:20250325T200000
DTSTAMP:20260421T123627
CREATED:20250207T161038Z
LAST-MODIFIED:20250513T182636Z
UID:10013618-1742929200-1742932800@uucnh.org
SUMMARY:Z- Zoom with UUCNH Friends
DESCRIPTION:This drop-in connection will be held every Tuesday from 3:30 pm – 4:30 pm and will be led by Michael Horwitz. \nContact: michaelhorwitz@uucnh.org for Zoom details
URL:https://uucnh.org/event/z-zoom-with-uucnh-friends/2025-03-25/
LOCATION:Zoom
CATEGORIES:Community
ATTACH;FMTTYPE=image/jpeg:https://uucnh.org/wp-content/uploads/2024/05/Writing-workshop2-scaled.jpg
END:VEVENT
BEGIN:VEVENT
DTSTART;TZID=America/New_York:20250318T190000
DTEND;TZID=America/New_York:20250318T200000
DTSTAMP:20260421T123627
CREATED:20250207T161038Z
LAST-MODIFIED:20250513T182636Z
UID:10013617-1742324400-1742328000@uucnh.org
SUMMARY:Z- Zoom with UUCNH Friends
DESCRIPTION:This drop-in connection will be held every Tuesday from 3:30 pm – 4:30 pm and will be led by Michael Horwitz. \nContact: michaelhorwitz@uucnh.org for Zoom details
URL:https://uucnh.org/event/z-zoom-with-uucnh-friends/2025-03-18/
LOCATION:Zoom
CATEGORIES:Community
ATTACH;FMTTYPE=image/jpeg:https://uucnh.org/wp-content/uploads/2024/05/Writing-workshop2-scaled.jpg
END:VEVENT
BEGIN:VEVENT
DTSTART;TZID=America/New_York:20250311T190000
DTEND;TZID=America/New_York:20250311T200000
DTSTAMP:20260421T123627
CREATED:20250207T161038Z
LAST-MODIFIED:20250513T182636Z
UID:10013616-1741719600-1741723200@uucnh.org
SUMMARY:Z- Zoom with UUCNH Friends
DESCRIPTION:This drop-in connection will be held every Tuesday from 3:30 pm – 4:30 pm and will be led by Michael Horwitz. \nContact: michaelhorwitz@uucnh.org for Zoom details
URL:https://uucnh.org/event/z-zoom-with-uucnh-friends/2025-03-11/
LOCATION:Zoom
CATEGORIES:Community
ATTACH;FMTTYPE=image/jpeg:https://uucnh.org/wp-content/uploads/2024/05/Writing-workshop2-scaled.jpg
END:VEVENT
BEGIN:VEVENT
DTSTART;TZID=America/New_York:20250304T190000
DTEND;TZID=America/New_York:20250304T200000
DTSTAMP:20260421T123627
CREATED:20250207T161038Z
LAST-MODIFIED:20250513T182636Z
UID:10013615-1741114800-1741118400@uucnh.org
SUMMARY:Z- Zoom with UUCNH Friends
DESCRIPTION:This drop-in connection will be held every Tuesday from 3:30 pm – 4:30 pm and will be led by Michael Horwitz. \nContact: michaelhorwitz@uucnh.org for Zoom details
URL:https://uucnh.org/event/z-zoom-with-uucnh-friends/2025-03-04/
LOCATION:Zoom
CATEGORIES:Community
ATTACH;FMTTYPE=image/jpeg:https://uucnh.org/wp-content/uploads/2024/05/Writing-workshop2-scaled.jpg
END:VEVENT
BEGIN:VEVENT
DTSTART;TZID=America/New_York:20250225T190000
DTEND;TZID=America/New_York:20250225T200000
DTSTAMP:20260421T123627
CREATED:20250207T161038Z
LAST-MODIFIED:20250513T182636Z
UID:10013614-1740510000-1740513600@uucnh.org
SUMMARY:Z- Zoom with UUCNH Friends
DESCRIPTION:This drop-in connection will be held every Tuesday from 3:30 pm – 4:30 pm and will be led by Michael Horwitz. \nContact: michaelhorwitz@uucnh.org for Zoom details
URL:https://uucnh.org/event/z-zoom-with-uucnh-friends/2025-02-25/
LOCATION:Zoom
CATEGORIES:Community
ATTACH;FMTTYPE=image/jpeg:https://uucnh.org/wp-content/uploads/2024/05/Writing-workshop2-scaled.jpg
END:VEVENT
BEGIN:VEVENT
DTSTART;TZID=America/New_York:20250222T100000
DTEND;TZID=America/New_York:20250222T120000
DTSTAMP:20260421T123627
CREATED:20250207T210642Z
LAST-MODIFIED:20250215T133508Z
UID:10016002-1740218400-1740225600@uucnh.org
SUMMARY:W & F -  Special meeting with Rev Lee Anne
DESCRIPTION:
URL:https://uucnh.org/event/w-f-special-meeting-with-rev-lee-anne/
LOCATION:West Room
CATEGORIES:Community
END:VEVENT
BEGIN:VEVENT
DTSTART;TZID=America/New_York:20250218T190000
DTEND;TZID=America/New_York:20250218T200000
DTSTAMP:20260421T123628
CREATED:20250207T161038Z
LAST-MODIFIED:20250513T182636Z
UID:10013613-1739905200-1739908800@uucnh.org
SUMMARY:Z- Zoom with UUCNH Friends
DESCRIPTION:This drop-in connection will be held every Tuesday from 3:30 pm – 4:30 pm and will be led by Michael Horwitz. \nContact: michaelhorwitz@uucnh.org for Zoom details
URL:https://uucnh.org/event/z-zoom-with-uucnh-friends/2025-02-18/
LOCATION:Zoom
CATEGORIES:Community
ATTACH;FMTTYPE=image/jpeg:https://uucnh.org/wp-content/uploads/2024/05/Writing-workshop2-scaled.jpg
END:VEVENT
BEGIN:VEVENT
DTSTART;TZID=America/New_York:20250211T190000
DTEND;TZID=America/New_York:20250211T200000
DTSTAMP:20260421T123628
CREATED:20250207T161038Z
LAST-MODIFIED:20250513T182636Z
UID:10013612-1739300400-1739304000@uucnh.org
SUMMARY:Z- Zoom with UUCNH Friends
DESCRIPTION:This drop-in connection will be held every Tuesday from 3:30 pm – 4:30 pm and will be led by Michael Horwitz. \nContact: michaelhorwitz@uucnh.org for Zoom details
URL:https://uucnh.org/event/z-zoom-with-uucnh-friends/2025-02-11/
LOCATION:Zoom
CATEGORIES:Community
ATTACH;FMTTYPE=image/jpeg:https://uucnh.org/wp-content/uploads/2024/05/Writing-workshop2-scaled.jpg
END:VEVENT
END:VCALENDAR